Workbook

Sheet 別紙１
A1: 燃料購入・使用実績報告書
A3: 【作成要領】
A4: 入力欄 | C4: 説明
A5: ①施設名称 | C5: 施設名称を入力してください。
A6: ②燃料費等の種別 | C6: 購入・使用した燃料の種別に対応する以下の③から⑤までの項目について入力してください。
A7: ③購入・使用実績 | C7: 購入・使用した燃料の実績（金額）について算定し、各月毎に入力してください。 なお、1回目の申請時は4月～8月の欄に、2回目の申請時は9月～12月の欄に入力してください。 （計算式）：購入・使用実績＝購入単価－基準単価×購入・使用量 （※同じ月に複数回の購入があり、それぞれの購入単価が異なる場合は別々に計算した上で、各月毎に合算してください。） 【基準単価】 ・重油：106.7円/L（小口） 94.2円/L（大口）※8,000L以上のローリーで納入した場合はこちらを適用 ・軽油：78.6円/L ・灯油：90.2円/L
A8: ④補助対象額合計 | C8: ・1回目の申請時について 合計(a)、合計(b)、合計(c）の合計額を④補助対象額合計（4月～8月分）へ入力してください。 ・2回目の申請時について 合計(d)、合計(e)、合計(f）の合計額を④補助対象額合計（9月～12月分）へ入力してください。
A9: ⑤補助申請額 | C9: ④補助対象額合計を1/2した金額を入力してください（1円未満切り捨て）。
A11: ※当該支払月の燃料費支払の事実が分かる書類を添付してください。
A13: ①施設名称
D16: 1回目 | I16: 合計 (a) | J16: 2回目 | N16: 合計 （ｄ）
A17: ②燃料の種類 | C17: 重油 | D17: ４月分 | E17: ５月分 | F17: ６月分 | G17: ７月分 | H17: ８月分 | J17: ９月分 | K17: １０月分 | L17: １１月分 | M17: １２月分
A19: ③購入・使用実績 | D19: ='4月分'!H66 -> 0 | E19: ='5月分'!H66 -> 0 | F19: ='6月分'!H66 -> 0 | G19: ='7月分'!H66 -> 0 | H19: ='8月分'!H66 -> 0 | I19: =SUM(D19:H21) -> 0 | J19: ='9月分'!H66 -> 0 | K19: ='10月分'!H66 -> 0 | L19: ='11月分'!H66 -> 0 | M19: ='12月分'!H66 -> 0 | N19: =SUM(J19:M21) -> 0
D23: 1回目 | I23: 合計 (b) | J23: 2回目 | N23: 合計 （e）
A24: ②燃料の種類 | C24: 軽油 | D24: ４月分 | E24: ５月分 | F24: ６月分 | G24: ７月分 | H24: ８月分 | J24: ９月分 | K24: １０月分 | L24: １１月分 | M24: １２月分
A26: ③購入・使用実績 | D26: ='4月分'!H67 -> 0 | E26: ='5月分'!H67 -> 0 | F26: ='6月分'!H67 -> 0 | G26: ='7月分'!H67 -> 0 | H26: ='8月分'!H67 -> 0 | I26: =SUM(D26:H28) -> 0 | J26: ='9月分'!H67 -> 0 | K26: ='10月分'!H67 -> 0 | L26: ='11月分'!H67 -> 0 | M26: ='12月分'!H67 -> 0 | N26: =SUM(J26:M28) -> 0
D30: 1回目 | I30: 合計 (c) | J30: 2回目 | N30: 合計 (f)
A31: ②燃料の種類 | C31: 灯油 | D31: ４月分 | E31: ５月分 | F31: ６月分 | G31: ７月分 | H31: ８月分 | J31: ９月分 | K31: １０月分 | L31: １１月分 | M31: １２月分
A33: ③購入・使用実績 | D33: ='4月分'!H68 -> 0 | E33: ='5月分'!H68 -> 0 | F33: ='6月分'!H68 -> 0 | G33: ='7月分'!H68 -> 0 | H33: ='8月分'!H68 -> 0 | I33: =SUM(D33:H35) -> 0 | J33: ='9月分'!H68 -> 0 | K33: ='10月分'!H68 -> 0 | L33: ='11月分'!H68 -> 0 | M33: ='12月分'!H68 -> 0 | N33: =SUM(J33:M35) -> 0
F37: ④補助対象額合計（4月～8月分）（=(a)+b)+(c)） | K37: ④補助対象額合計（9月～12月分）（=(d)+(e)+(f)）
F38: =I19+I26+I33 -> 0 | K38: =N19+N26+N33 -> 0
F40: ⑤補助申請額（4月～8月分）(=④×1/2) | K40: ⑤補助申請額（9月～12月分）(=④×1/2)
F41: =ROUNDDOWN(F38/2,0) -> 0 | K41: =ROUNDDOWN(K38/2,0) -> 0

Sheet 4月分
A1: 4 | C1: 月分
A2: ← 黄色の部分に入力してください →
A3: 油種 | B3: 納品日 | C3: 購入量(L) | D3: 支払金額(円※税抜) | E3: 期間判定 | F3: 購入単価 | G3: 基準単価 | H3: 差額単価 | I3: 算定額(円) | K3: 油種 | L3: 油種を選択してください
E4: =IF(B4="","",IF(AND(B4>=DATE(2026,4,1), B4<=DATE(2026,4,30)), "◯", "×（期間外）")) | F4: =IF(C4>0, ROUND(D4/C4, 2), 0) -> 0 | G4: =IF(A4="", "", IF(LEFT(E4,1)="×", 0, IF(TRIM(A4)="重油", IF(C4>=8000, 94.2, 106.7), IF(TRIM(A4)="軽油", 78.6, IF(TRIM(A4)="灯油", 90.2, 0))))) | H4: =IF(F4>G4, F4-G4, 0) -> 0 | I4: =IF(E4="◯", ROUNDDOWN(C4 * H4, 0), 0) -> 0 | K4: 納品日 | L4: 納品日を入力してください
E5: =IF(B5="","",IF(AND(B5>=DATE(2026,4,1), B5<=DATE(2026,4,30)), "◯", "×（期間外）")) | F5: =IF(C5>0, ROUND(D5/C5, 2), 0) -> 0 | G5: =IF(A5="", "", IF(LEFT(E5,1)="×", 0, IF(TRIM(A5)="重油", IF(C5>=8000, 94.2, 106.7), IF(TRIM(A5)="軽油", 78.6, IF(TRIM(A5)="灯油", 90.2, 0))))) | H5: =IF(F5>G5, F5-G5, 0) -> 0 | I5: =IF(E5="◯", ROUNDDOWN(C5 * H5, 0), 0) -> 0 | K5: 購入量 | L5: 購入量を入力してください
E6: =IF(B6="","",IF(AND(B6>=DATE(2026,4,1), B6<=DATE(2026,4,30)), "◯", "×（期間外）")) | F6: =IF(C6>0, ROUND(D6/C6, 2), 0) -> 0 | G6: =IF(A6="", "", IF(LEFT(E6,1)="×", 0, IF(TRIM(A6)="重油", IF(C6>=8000, 94.2, 106.7), IF(TRIM(A6)="軽油", 78.6, IF(TRIM(A6)="灯油", 90.2, 0))))) | H6: =IF(F6>G6, F6-G6, 0) -> 0 | I6: =IF(E6="◯", ROUNDDOWN(C6 * H6, 0), 0) -> 0 | K6: 支払金額 | L6: 支払金額を税抜きで入力してください
E7: =IF(B7="","",IF(AND(B7>=DATE(2026,4,1), B7<=DATE(2026,4,30)), "◯", "×（期間外）")) | F7: =IF(C7>0, ROUND(D7/C7, 2), 0) -> 0 | G7: =IF(A7="", "", IF(LEFT(E7,1)="×", 0, IF(TRIM(A7)="重油", IF(C7>=8000, 94.2, 106.7), IF(TRIM(A7)="軽油", 78.6, IF(TRIM(A7)="灯油", 90.2, 0))))) | H7: =IF(F7>G7, F7-G7, 0) -> 0 | I7: =IF(E7="◯", ROUNDDOWN(C7 * H7, 0), 0) -> 0
E8: =IF(B8="","",IF(AND(B8>=DATE(2026,4,1), B8<=DATE(2026,4,30)), "◯", "×（期間外）")) | F8: =IF(C8>0, ROUND(D8/C8, 2), 0) -> 0 | G8: =IF(A8="", "", IF(LEFT(E8,1)="×", 0, IF(TRIM(A8)="重油", IF(C8>=8000, 94.2, 106.7), IF(TRIM(A8)="軽油", 78.6, IF(TRIM(A8)="灯油", 90.2, 0))))) | H8: =IF(F8>G8, F8-G8, 0) -> 0 | I8: =IF(E8="◯", ROUNDDOWN(C8 * H8, 0), 0) -> 0
E9: =IF(B9="","",IF(AND(B9>=DATE(2026,4,1), B9<=DATE(2026,4,30)), "◯", "×（期間外）")) | F9: =IF(C9>0, ROUND(D9/C9, 2), 0) -> 0 | G9: =IF(A9="", "", IF(LEFT(E9,1)="×", 0, IF(TRIM(A9)="重油", IF(C9>=8000, 94.2, 106.7), IF(TRIM(A9)="軽油", 78.6, IF(TRIM(A9)="灯油", 90.2, 0))))) | H9: =IF(F9>G9, F9-G9, 0) -> 0 | I9: =IF(E9="◯", ROUNDDOWN(C9 * H9, 0), 0) -> 0
E10: =IF(B10="","",IF(AND(B10>=DATE(2026,4,1), B10<=DATE(2026,4,30)), "◯", "×（期間外）")) | F10: =IF(C10>0, ROUND(D10/C10, 2), 0) -> 0 | G10: =IF(A10="", "", IF(LEFT(E10,1)="×", 0, IF(TRIM(A10)="重油", IF(C10>=8000, 94.2, 106.7), IF(TRIM(A10)="軽油", 78.6, IF(TRIM(A10)="灯油", 90.2, 0))))) | H10: =IF(F10>G10, F10-G10, 0) -> 0 | I10: =IF(E10="◯", ROUNDDOWN(C10 * H10, 0), 0) -> 0
E11: =IF(B11="","",IF(AND(B11>=DATE(2026,4,1), B11<=DATE(2026,4,30)), "◯", "×（期間外）")) | F11: =IF(C11>0, ROUND(D11/C11, 2), 0) -> 0 | G11: =IF(A11="", "", IF(LEFT(E11,1)="×", 0, IF(TRIM(A11)="重油", IF(C11>=8000, 94.2, 106.7), IF(TRIM(A11)="軽油", 78.6, IF(TRIM(A11)="灯油", 90.2, 0))))) | H11: =IF(F11>G11, F11-G11, 0) -> 0 | I11: =IF(E11="◯", ROUNDDOWN(C11 * H11, 0), 0) -> 0
E12: =IF(B12="","",IF(AND(B12>=DATE(2026,4,1), B12<=DATE(2026,4,30)), "◯", "×（期間外）")) | F12: =IF(C12>0, ROUND(D12/C12, 2), 0) -> 0 | G12: =IF(A12="", "", IF(LEFT(E12,1)="×", 0, IF(TRIM(A12)="重油", IF(C12>=8000, 94.2, 106.7), IF(TRIM(A12)="軽油", 78.6, IF(TRIM(A12)="灯油", 90.2, 0))))) | H12: =IF(F12>G12, F12-G12, 0) -> 0 | I12: =IF(E12="◯", ROUNDDOWN(C12 * H12, 0), 0) -> 0
E13: =IF(B13="","",IF(AND(B13>=DATE(2026,4,1), B13<=DATE(2026,4,30)), "◯", "×（期間外）")) | F13: =IF(C13>0, ROUND(D13/C13, 2), 0) -> 0 | G13: =IF(A13="", "", IF(LEFT(E13,1)="×", 0, IF(TRIM(A13)="重油", IF(C13>=8000, 94.2, 106.7), IF(TRIM(A13)="軽油", 78.6, IF(TRIM(A13)="灯油", 90.2, 0))))) | H13: =IF(F13>G13, F13-G13, 0) -> 0 | I13: =IF(E13="◯", ROUNDDOWN(C13 * H13, 0), 0) -> 0
E14: =IF(B14="","",IF(AND(B14>=DATE(2026,4,1), B14<=DATE(2026,4,30)), "◯", "×（期間外）")) | F14: =IF(C14>0, ROUND(D14/C14, 2), 0) -> 0 | G14: =IF(A14="", "", IF(LEFT(E14,1)="×", 0, IF(TRIM(A14)="重油", IF(C14>=8000, 94.2, 106.7), IF(TRIM(A14)="軽油", 78.6, IF(TRIM(A14)="灯油", 90.2, 0))))) | H14: =IF(F14>G14, F14-G14, 0) -> 0 | I14: =IF(E14="◯", ROUNDDOWN(C14 * H14, 0), 0) -> 0
E15: =IF(B15="","",IF(AND(B15>=DATE(2026,4,1), B15<=DATE(2026,4,30)), "◯", "×（期間外）")) | F15: =IF(C15>0, ROUND(D15/C15, 2), 0) -> 0 | G15: =IF(A15="", "", IF(LEFT(E15,1)="×", 0, IF(TRIM(A15)="重油", IF(C15>=8000, 94.2, 106.7), IF(TRIM(A15)="軽油", 78.6, IF(TRIM(A15)="灯油", 90.2, 0))))) | H15: =IF(F15>G15, F15-G15, 0) -> 0 | I15: =IF(E15="◯", ROUNDDOWN(C15 * H15, 0), 0) -> 0
E16: =IF(B16="","",IF(AND(B16>=DATE(2026,4,1), B16<=DATE(2026,4,30)), "◯", "×（期間外）")) | F16: =IF(C16>0, ROUND(D16/C16, 2), 0) -> 0 | G16: =IF(A16="", "", IF(LEFT(E16,1)="×", 0, IF(TRIM(A16)="重油", IF(C16>=8000, 94.2, 106.7), IF(TRIM(A16)="軽油", 78.6, IF(TRIM(A16)="灯油", 90.2, 0))))) | H16: =IF(F16>G16, F16-G16, 0) -> 0 | I16: =IF(E16="◯", ROUNDDOWN(C16 * H16, 0), 0) -> 0
E17: =IF(B17="","",IF(AND(B17>=DATE(2026,4,1), B17<=DATE(2026,4,30)), "◯", "×（期間外）")) | F17: =IF(C17>0, ROUND(D17/C17, 2), 0) -> 0 | G17: =IF(A17="", "", IF(LEFT(E17,1)="×", 0, IF(TRIM(A17)="重油", IF(C17>=8000, 94.2, 106.7), IF(TRIM(A17)="軽油", 78.6, IF(TRIM(A17)="灯油", 90.2, 0))))) | H17: =IF(F17>G17, F17-G17, 0) -> 0 | I17: =IF(E17="◯", ROUNDDOWN(C17 * H17, 0), 0) -> 0
E18: =IF(B18="","",IF(AND(B18>=DATE(2026,4,1), B18<=DATE(2026,4,30)), "◯", "×（期間外）")) | F18: =IF(C18>0, ROUND(D18/C18, 2), 0) -> 0 | G18: =IF(A18="", "", IF(LEFT(E18,1)="×", 0, IF(TRIM(A18)="重油", IF(C18>=8000, 94.2, 106.7), IF(TRIM(A18)="軽油", 78.6, IF(TRIM(A18)="灯油", 90.2, 0))))) | H18: =IF(F18>G18, F18-G18, 0) -> 0 | I18: =IF(E18="◯", ROUNDDOWN(C18 * H18, 0), 0) -> 0
... E63: =IF(B63="","",IF(AND(B63>=DATE(2026,4,1), B63<=DATE(2026,4,30)), "◯", "×（期間外）")) | F63: =IF(C63>0, ROUND(D63/C63, 2), 0) -> 0 | G63: =IF(A63="", "", IF(LEFT(E63,1)="×", 0, IF(TRIM(A63)="重油", IF(C63>=8000, 94.2, 106.7), IF(TRIM(A63)="軽油", 78.6, IF(TRIM(A63)="灯油", 90.2, 0))))) | H63: =IF(F63>G63, F63-G63, 0) -> 0 | I63: =IF(E63="◯", ROUNDDOWN(C63 * H63, 0), 0) -> 0
G65: 算定額
G66: 重油 | H66: =SUMIF(A4:A137, "重油", I4:I137) -> 0
G67: 軽油 | H67: =SUMIF(A4:A137, "軽油", I4:I137) -> 0
G68: 灯油 | H68: =SUMIF(A4:A137, "灯油", I4:I137) -> 0

Sheet 5月分
A1: 5 | C1: 月分
A2: ← 黄色の部分に入力してください →
A3: 油種 | B3: 納品日 | C3: 購入量(L) | D3: 支払金額(円※税抜) | E3: 期間判定 | F3: 購入単価 | G3: 基準単価 | H3: 差額単価 | I3: 算定額(円) | K3: 油種 | L3: 油種を選択してください
E4: =IF(B4="","",IF(AND(B4>=DATE(2026,5,1), B4<=DATE(2026,5,31)), "◯", "×（期間外）")) | F4: =IF(C4>0, ROUND(D4/C4, 2), 0) -> 0 | G4: =IF(A4="", "", IF(LEFT(E4,1)="×", 0, IF(TRIM(A4)="重油", IF(C4>=8000, 94.2, 106.7), IF(TRIM(A4)="軽油", 78.6, IF(TRIM(A4)="灯油", 90.2, 0))))) | H4: =IF(F4>G4, F4-G4, 0) -> 0 | I4: =IF(E4="◯", ROUNDDOWN(C4 * H4, 0), 0) -> 0 | K4: 納品日 | L4: 納品日を入力してください
E5: =IF(B5="","",IF(AND(B5>=DATE(2026,5,1), B5<=DATE(2026,5,31)), "◯", "×（期間外）")) | F5: =IF(C5>0, ROUND(D5/C5, 2), 0) -> 0 | G5: =IF(A5="", "", IF(LEFT(E5,1)="×", 0, IF(TRIM(A5)="重油", IF(C5>=8000, 94.2, 106.7), IF(TRIM(A5)="軽油", 78.6, IF(TRIM(A5)="灯油", 90.2, 0))))) | H5: =IF(F5>G5, F5-G5, 0) -> 0 | I5: =IF(E5="◯", ROUNDDOWN(C5 * H5, 0), 0) -> 0 | K5: 購入量 | L5: 購入量を入力してください
E6: =IF(B6="","",IF(AND(B6>=DATE(2026,5,1), B6<=DATE(2026,5,31)), "◯", "×（期間外）")) | F6: =IF(C6>0, ROUND(D6/C6, 2), 0) -> 0 | G6: =IF(A6="", "", IF(LEFT(E6,1)="×", 0, IF(TRIM(A6)="重油", IF(C6>=8000, 94.2, 106.7), IF(TRIM(A6)="軽油", 78.6, IF(TRIM(A6)="灯油", 90.2, 0))))) | H6: =IF(F6>G6, F6-G6, 0) -> 0 | I6: =IF(E6="◯", ROUNDDOWN(C6 * H6, 0), 0) -> 0 | K6: 支払金額 | L6: 支払金額を税抜きで入力してください
E7: =IF(B7="","",IF(AND(B7>=DATE(2026,5,1), B7<=DATE(2026,5,31)), "◯", "×（期間外）")) | F7: =IF(C7>0, ROUND(D7/C7, 2), 0) -> 0 | G7: =IF(A7="", "", IF(LEFT(E7,1)="×", 0, IF(TRIM(A7)="重油", IF(C7>=8000, 94.2, 106.7), IF(TRIM(A7)="軽油", 78.6, IF(TRIM(A7)="灯油", 90.2, 0))))) | H7: =IF(F7>G7, F7-G7, 0) -> 0 | I7: =IF(E7="◯", ROUNDDOWN(C7 * H7, 0), 0) -> 0
E8: =IF(B8="","",IF(AND(B8>=DATE(2026,5,1), B8<=DATE(2026,5,31)), "◯", "×（期間外）")) | F8: =IF(C8>0, ROUND(D8/C8, 2), 0) -> 0 | G8: =IF(A8="", "", IF(LEFT(E8,1)="×", 0, IF(TRIM(A8)="重油", IF(C8>=8000, 94.2, 106.7), IF(TRIM(A8)="軽油", 78.6, IF(TRIM(A8)="灯油", 90.2, 0))))) | H8: =IF(F8>G8, F8-G8, 0) -> 0 | I8: =IF(E8="◯", ROUNDDOWN(C8 * H8, 0), 0) -> 0
E9: =IF(B9="","",IF(AND(B9>=DATE(2026,5,1), B9<=DATE(2026,5,31)), "◯", "×（期間外）")) | F9: =IF(C9>0, ROUND(D9/C9, 2), 0) -> 0 | G9: =IF(A9="", "", IF(LEFT(E9,1)="×", 0, IF(TRIM(A9)="重油", IF(C9>=8000, 94.2, 106.7), IF(TRIM(A9)="軽油", 78.6, IF(TRIM(A9)="灯油", 90.2, 0))))) | H9: =IF(F9>G9, F9-G9, 0) -> 0 | I9: =IF(E9="◯", ROUNDDOWN(C9 * H9, 0), 0) -> 0
E10: =IF(B10="","",IF(AND(B10>=DATE(2026,5,1), B10<=DATE(2026,5,31)), "◯", "×（期間外）")) | F10: =IF(C10>0, ROUND(D10/C10, 2), 0) -> 0 | G10: =IF(A10="", "", IF(LEFT(E10,1)="×", 0, IF(TRIM(A10)="重油", IF(C10>=8000, 94.2, 106.7), IF(TRIM(A10)="軽油", 78.6, IF(TRIM(A10)="灯油", 90.2, 0))))) | H10: =IF(F10>G10, F10-G10, 0) -> 0 | I10: =IF(E10="◯", ROUNDDOWN(C10 * H10, 0), 0) -> 0
E11: =IF(B11="","",IF(AND(B11>=DATE(2026,5,1), B11<=DATE(2026,5,31)), "◯", "×（期間外）")) | F11: =IF(C11>0, ROUND(D11/C11, 2), 0) -> 0 | G11: =IF(A11="", "", IF(LEFT(E11,1)="×", 0, IF(TRIM(A11)="重油", IF(C11>=8000, 94.2, 106.7), IF(TRIM(A11)="軽油", 78.6, IF(TRIM(A11)="灯油", 90.2, 0))))) | H11: =IF(F11>G11, F11-G11, 0) -> 0 | I11: =IF(E11="◯", ROUNDDOWN(C11 * H11, 0), 0) -> 0
E12: =IF(B12="","",IF(AND(B12>=DATE(2026,5,1), B12<=DATE(2026,5,31)), "◯", "×（期間外）")) | F12: =IF(C12>0, ROUND(D12/C12, 2), 0) -> 0 | G12: =IF(A12="", "", IF(LEFT(E12,1)="×", 0, IF(TRIM(A12)="重油", IF(C12>=8000, 94.2, 106.7), IF(TRIM(A12)="軽油", 78.6, IF(TRIM(A12)="灯油", 90.2, 0))))) | H12: =IF(F12>G12, F12-G12, 0) -> 0 | I12: =IF(E12="◯", ROUNDDOWN(C12 * H12, 0), 0) -> 0
E13: =IF(B13="","",IF(AND(B13>=DATE(2026,5,1), B13<=DATE(2026,5,31)), "◯", "×（期間外）")) | F13: =IF(C13>0, ROUND(D13/C13, 2), 0) -> 0 | G13: =IF(A13="", "", IF(LEFT(E13,1)="×", 0, IF(TRIM(A13)="重油", IF(C13>=8000, 94.2, 106.7), IF(TRIM(A13)="軽油", 78.6, IF(TRIM(A13)="灯油", 90.2, 0))))) | H13: =IF(F13>G13, F13-G13, 0) -> 0 | I13: =IF(E13="◯", ROUNDDOWN(C13 * H13, 0), 0) -> 0
E14: =IF(B14="","",IF(AND(B14>=DATE(2026,5,1), B14<=DATE(2026,5,31)), "◯", "×（期間外）")) | F14: =IF(C14>0, ROUND(D14/C14, 2), 0) -> 0 | G14: =IF(A14="", "", IF(LEFT(E14,1)="×", 0, IF(TRIM(A14)="重油", IF(C14>=8000, 94.2, 106.7), IF(TRIM(A14)="軽油", 78.6, IF(TRIM(A14)="灯油", 90.2, 0))))) | H14: =IF(F14>G14, F14-G14, 0) -> 0 | I14: =IF(E14="◯", ROUNDDOWN(C14 * H14, 0), 0) -> 0
E15: =IF(B15="","",IF(AND(B15>=DATE(2026,5,1), B15<=DATE(2026,5,31)), "◯", "×（期間外）")) | F15: =IF(C15>0, ROUND(D15/C15, 2), 0) -> 0 | G15: =IF(A15="", "", IF(LEFT(E15,1)="×", 0, IF(TRIM(A15)="重油", IF(C15>=8000, 94.2, 106.7), IF(TRIM(A15)="軽油", 78.6, IF(TRIM(A15)="灯油", 90.2, 0))))) | H15: =IF(F15>G15, F15-G15, 0) -> 0 | I15: =IF(E15="◯", ROUNDDOWN(C15 * H15, 0), 0) -> 0
E16: =IF(B16="","",IF(AND(B16>=DATE(2026,5,1), B16<=DATE(2026,5,31)), "◯", "×（期間外）")) | F16: =IF(C16>0, ROUND(D16/C16, 2), 0) -> 0 | G16: =IF(A16="", "", IF(LEFT(E16,1)="×", 0, IF(TRIM(A16)="重油", IF(C16>=8000, 94.2, 106.7), IF(TRIM(A16)="軽油", 78.6, IF(TRIM(A16)="灯油", 90.2, 0))))) | H16: =IF(F16>G16, F16-G16, 0) -> 0 | I16: =IF(E16="◯", ROUNDDOWN(C16 * H16, 0), 0) -> 0
E17: =IF(B17="","",IF(AND(B17>=DATE(2026,5,1), B17<=DATE(2026,5,31)), "◯", "×（期間外）")) | F17: =IF(C17>0, ROUND(D17/C17, 2), 0) -> 0 | G17: =IF(A17="", "", IF(LEFT(E17,1)="×", 0, IF(TRIM(A17)="重油", IF(C17>=8000, 94.2, 106.7), IF(TRIM(A17)="軽油", 78.6, IF(TRIM(A17)="灯油", 90.2, 0))))) | H17: =IF(F17>G17, F17-G17, 0) -> 0 | I17: =IF(E17="◯", ROUNDDOWN(C17 * H17, 0), 0) -> 0
E18: =IF(B18="","",IF(AND(B18>=DATE(2026,5,1), B18<=DATE(2026,5,31)), "◯", "×（期間外）")) | F18: =IF(C18>0, ROUND(D18/C18, 2), 0) -> 0 | G18: =IF(A18="", "", IF(LEFT(E18,1)="×", 0, IF(TRIM(A18)="重油", IF(C18>=8000, 94.2, 106.7), IF(TRIM(A18)="軽油", 78.6, IF(TRIM(A18)="灯油", 90.2, 0))))) | H18: =IF(F18>G18, F18-G18, 0) -> 0 | I18: =IF(E18="◯", ROUNDDOWN(C18 * H18, 0), 0) -> 0
... E63: =IF(B63="","",IF(AND(B63>=DATE(2026,5,1), B63<=DATE(2026,5,31)), "◯", "×（期間外）")) | F63: =IF(C63>0, ROUND(D63/C63, 2), 0) -> 0 | G63: =IF(A63="", "", IF(LEFT(E63,1)="×", 0, IF(TRIM(A63)="重油", IF(C63>=8000, 94.2, 106.7), IF(TRIM(A63)="軽油", 78.6, IF(TRIM(A63)="灯油", 90.2, 0))))) | H63: =IF(F63>G63, F63-G63, 0) -> 0 | I63: =IF(E63="◯", ROUNDDOWN(C63 * H63, 0), 0) -> 0
G65: 算定額
G66: 重油 | H66: =SUMIF(A4:A137, "重油", I4:I137) -> 0
G67: 軽油 | H67: =SUMIF(A4:A137, "軽油", I4:I137) -> 0
G68: 灯油 | H68: =SUMIF(A4:A137, "灯油", I4:I137) -> 0

Sheet 6月分
A1: 6 | C1: 月分
A2: ← 黄色の部分に入力してください →
A3: 油種 | B3: 納品日 | C3: 購入量(L) | D3: 支払金額(円※税抜) | E3: 期間判定 | F3: 購入単価 | G3: 基準単価 | H3: 差額単価 | I3: 算定額(円) | K3: 油種 | L3: 油種を選択してください
E4: =IF(B4="","",IF(AND(B4>=DATE(2026,6,1), B4<=DATE(2026,6,30)), "◯", "×（期間外）")) | F4: =IF(C4>0, ROUND(D4/C4, 2), 0) -> 0 | G4: =IF(A4="", "", IF(LEFT(E4,1)="×", 0, IF(TRIM(A4)="重油", IF(C4>=8000, 94.2, 106.7), IF(TRIM(A4)="軽油", 78.6, IF(TRIM(A4)="灯油", 90.2, 0))))) | H4: =IF(F4>G4, F4-G4, 0) -> 0 | I4: =IF(E4="◯", ROUNDDOWN(C4 * H4, 0), 0) -> 0 | K4: 納品日 | L4: 納品日を入力してください
E5: =IF(B5="","",IF(AND(B5>=DATE(2026,6,1), B5<=DATE(2026,6,30)), "◯", "×（期間外）")) | F5: =IF(C5>0, ROUND(D5/C5, 2), 0) -> 0 | G5: =IF(A5="", "", IF(LEFT(E5,1)="×", 0, IF(TRIM(A5)="重油", IF(C5>=8000, 94.2, 106.7), IF(TRIM(A5)="軽油", 78.6, IF(TRIM(A5)="灯油", 90.2, 0))))) | H5: =IF(F5>G5, F5-G5, 0) -> 0 | I5: =IF(E5="◯", ROUNDDOWN(C5 * H5, 0), 0) -> 0 | K5: 購入量 | L5: 購入量を入力してください
E6: =IF(B6="","",IF(AND(B6>=DATE(2026,6,1), B6<=DATE(2026,6,30)), "◯", "×（期間外）")) | F6: =IF(C6>0, ROUND(D6/C6, 2), 0) -> 0 | G6: =IF(A6="", "", IF(LEFT(E6,1)="×", 0, IF(TRIM(A6)="重油", IF(C6>=8000, 94.2, 106.7), IF(TRIM(A6)="軽油", 78.6, IF(TRIM(A6)="灯油", 90.2, 0))))) | H6: =IF(F6>G6, F6-G6, 0) -> 0 | I6: =IF(E6="◯", ROUNDDOWN(C6 * H6, 0), 0) -> 0 | K6: 支払金額 | L6: 支払金額を税抜きで入力してください
E7: =IF(B7="","",IF(AND(B7>=DATE(2026,6,1), B7<=DATE(2026,6,30)), "◯", "×（期間外）")) | F7: =IF(C7>0, ROUND(D7/C7, 2), 0) -> 0 | G7: =IF(A7="", "", IF(LEFT(E7,1)="×", 0, IF(TRIM(A7)="重油", IF(C7>=8000, 94.2, 106.7), IF(TRIM(A7)="軽油", 78.6, IF(TRIM(A7)="灯油", 90.2, 0))))) | H7: =IF(F7>G7, F7-G7, 0) -> 0 | I7: =IF(E7="◯", ROUNDDOWN(C7 * H7, 0), 0) -> 0
E8: =IF(B8="","",IF(AND(B8>=DATE(2026,6,1), B8<=DATE(2026,6,30)), "◯", "×（期間外）")) | F8: =IF(C8>0, ROUND(D8/C8, 2), 0) -> 0 | G8: =IF(A8="", "", IF(LEFT(E8,1)="×", 0, IF(TRIM(A8)="重油", IF(C8>=8000, 94.2, 106.7), IF(TRIM(A8)="軽油", 78.6, IF(TRIM(A8)="灯油", 90.2, 0))))) | H8: =IF(F8>G8, F8-G8, 0) -> 0 | I8: =IF(E8="◯", ROUNDDOWN(C8 * H8, 0), 0) -> 0
E9: =IF(B9="","",IF(AND(B9>=DATE(2026,6,1), B9<=DATE(2026,6,30)), "◯", "×（期間外）")) | F9: =IF(C9>0, ROUND(D9/C9, 2), 0) -> 0 | G9: =IF(A9="", "", IF(LEFT(E9,1)="×", 0, IF(TRIM(A9)="重油", IF(C9>=8000, 94.2, 106.7), IF(TRIM(A9)="軽油", 78.6, IF(TRIM(A9)="灯油", 90.2, 0))))) | H9: =IF(F9>G9, F9-G9, 0) -> 0 | I9: =IF(E9="◯", ROUNDDOWN(C9 * H9, 0), 0) -> 0
E10: =IF(B10="","",IF(AND(B10>=DATE(2026,6,1), B10<=DATE(2026,6,30)), "◯", "×（期間外）")) | F10: =IF(C10>0, ROUND(D10/C10, 2), 0) -> 0 | G10: =IF(A10="", "", IF(LEFT(E10,1)="×", 0, IF(TRIM(A10)="重油", IF(C10>=8000, 94.2, 106.7), IF(TRIM(A10)="軽油", 78.6, IF(TRIM(A10)="灯油", 90.2, 0))))) | H10: =IF(F10>G10, F10-G10, 0) -> 0 | I10: =IF(E10="◯", ROUNDDOWN(C10 * H10, 0), 0) -> 0
E11: =IF(B11="","",IF(AND(B11>=DATE(2026,6,1), B11<=DATE(2026,6,30)), "◯", "×（期間外）")) | F11: =IF(C11>0, ROUND(D11/C11, 2), 0) -> 0 | G11: =IF(A11="", "", IF(LEFT(E11,1)="×", 0, IF(TRIM(A11)="重油", IF(C11>=8000, 94.2, 106.7), IF(TRIM(A11)="軽油", 78.6, IF(TRIM(A11)="灯油", 90.2, 0))))) | H11: =IF(F11>G11, F11-G11, 0) -> 0 | I11: =IF(E11="◯", ROUNDDOWN(C11 * H11, 0), 0) -> 0
E12: =IF(B12="","",IF(AND(B12>=DATE(2026,6,1), B12<=DATE(2026,6,30)), "◯", "×（期間外）")) | F12: =IF(C12>0, ROUND(D12/C12, 2), 0) -> 0 | G12: =IF(A12="", "", IF(LEFT(E12,1)="×", 0, IF(TRIM(A12)="重油", IF(C12>=8000, 94.2, 106.7), IF(TRIM(A12)="軽油", 78.6, IF(TRIM(A12)="灯油", 90.2, 0))))) | H12: =IF(F12>G12, F12-G12, 0) -> 0 | I12: =IF(E12="◯", ROUNDDOWN(C12 * H12, 0), 0) -> 0
E13: =IF(B13="","",IF(AND(B13>=DATE(2026,6,1), B13<=DATE(2026,6,30)), "◯", "×（期間外）")) | F13: =IF(C13>0, ROUND(D13/C13, 2), 0) -> 0 | G13: =IF(A13="", "", IF(LEFT(E13,1)="×", 0, IF(TRIM(A13)="重油", IF(C13>=8000, 94.2, 106.7), IF(TRIM(A13)="軽油", 78.6, IF(TRIM(A13)="灯油", 90.2, 0))))) | H13: =IF(F13>G13, F13-G13, 0) -> 0 | I13: =IF(E13="◯", ROUNDDOWN(C13 * H13, 0), 0) -> 0
E14: =IF(B14="","",IF(AND(B14>=DATE(2026,6,1), B14<=DATE(2026,6,30)), "◯", "×（期間外）")) | F14: =IF(C14>0, ROUND(D14/C14, 2), 0) -> 0 | G14: =IF(A14="", "", IF(LEFT(E14,1)="×", 0, IF(TRIM(A14)="重油", IF(C14>=8000, 94.2, 106.7), IF(TRIM(A14)="軽油", 78.6, IF(TRIM(A14)="灯油", 90.2, 0))))) | H14: =IF(F14>G14, F14-G14, 0) -> 0 | I14: =IF(E14="◯", ROUNDDOWN(C14 * H14, 0), 0) -> 0
E15: =IF(B15="","",IF(AND(B15>=DATE(2026,6,1), B15<=DATE(2026,6,30)), "◯", "×（期間外）")) | F15: =IF(C15>0, ROUND(D15/C15, 2), 0) -> 0 | G15: =IF(A15="", "", IF(LEFT(E15,1)="×", 0, IF(TRIM(A15)="重油", IF(C15>=8000, 94.2, 106.7), IF(TRIM(A15)="軽油", 78.6, IF(TRIM(A15)="灯油", 90.2, 0))))) | H15: =IF(F15>G15, F15-G15, 0) -> 0 | I15: =IF(E15="◯", ROUNDDOWN(C15 * H15, 0), 0) -> 0
E16: =IF(B16="","",IF(AND(B16>=DATE(2026,6,1), B16<=DATE(2026,6,30)), "◯", "×（期間外）")) | F16: =IF(C16>0, ROUND(D16/C16, 2), 0) -> 0 | G16: =IF(A16="", "", IF(LEFT(E16,1)="×", 0, IF(TRIM(A16)="重油", IF(C16>=8000, 94.2, 106.7), IF(TRIM(A16)="軽油", 78.6, IF(TRIM(A16)="灯油", 90.2, 0))))) | H16: =IF(F16>G16, F16-G16, 0) -> 0 | I16: =IF(E16="◯", ROUNDDOWN(C16 * H16, 0), 0) -> 0
E17: =IF(B17="","",IF(AND(B17>=DATE(2026,6,1), B17<=DATE(2026,6,30)), "◯", "×（期間外）")) | F17: =IF(C17>0, ROUND(D17/C17, 2), 0) -> 0 | G17: =IF(A17="", "", IF(LEFT(E17,1)="×", 0, IF(TRIM(A17)="重油", IF(C17>=8000, 94.2, 106.7), IF(TRIM(A17)="軽油", 78.6, IF(TRIM(A17)="灯油", 90.2, 0))))) | H17: =IF(F17>G17, F17-G17, 0) -> 0 | I17: =IF(E17="◯", ROUNDDOWN(C17 * H17, 0), 0) -> 0
E18: =IF(B18="","",IF(AND(B18>=DATE(2026,6,1), B18<=DATE(2026,6,30)), "◯", "×（期間外）")) | F18: =IF(C18>0, ROUND(D18/C18, 2), 0) -> 0 | G18: =IF(A18="", "", IF(LEFT(E18,1)="×", 0, IF(TRIM(A18)="重油", IF(C18>=8000, 94.2, 106.7), IF(TRIM(A18)="軽油", 78.6, IF(TRIM(A18)="灯油", 90.2, 0))))) | H18: =IF(F18>G18, F18-G18, 0) -> 0 | I18: =IF(E18="◯", ROUNDDOWN(C18 * H18, 0), 0) -> 0
... E63: =IF(B63="","",IF(AND(B63>=DATE(2026,6,1), B63<=DATE(2026,6,30)), "◯", "×（期間外）")) | F63: =IF(C63>0, ROUND(D63/C63, 2), 0) -> 0 | G63: =IF(A63="", "", IF(LEFT(E63,1)="×", 0, IF(TRIM(A63)="重油", IF(C63>=8000, 94.2, 106.7), IF(TRIM(A63)="軽油", 78.6, IF(TRIM(A63)="灯油", 90.2, 0))))) | H63: =IF(F63>G63, F63-G63, 0) -> 0 | I63: =IF(E63="◯", ROUNDDOWN(C63 * H63, 0), 0) -> 0
G65: 算定額
G66: 重油 | H66: =SUMIF(A4:A137, "重油", I4:I137) -> 0
G67: 軽油 | H67: =SUMIF(A4:A137, "軽油", I4:I137) -> 0
G68: 灯油 | H68: =SUMIF(A4:A137, "灯油", I4:I137) -> 0

Sheet 7月分
A1: 7 | C1: 月分
A2: ← 黄色の部分に入力してください →
A3: 油種 | B3: 納品日 | C3: 購入量(L) | D3: 支払金額(円※税抜) | E3: 期間判定 | F3: 購入単価 | G3: 基準単価 | H3: 差額単価 | I3: 算定額(円) | K3: 油種 | L3: 油種を選択してください
E4: =IF(B4="","",IF(AND(B4>=DATE(2026,7,1), B4<=DATE(2026,7,31)), "◯", "×（期間外）")) | F4: =IF(C4>0, ROUND(D4/C4, 2), 0) -> 0 | G4: =IF(A4="", "", IF(LEFT(E4,1)="×", 0, IF(TRIM(A4)="重油", IF(C4>=8000, 94.2, 106.7), IF(TRIM(A4)="軽油", 78.6, IF(TRIM(A4)="灯油", 90.2, 0))))) | H4: =IF(F4>G4, F4-G4, 0) -> 0 | I4: =IF(E4="◯", ROUNDDOWN(C4 * H4, 0), 0) -> 0 | K4: 納品日 | L4: 納品日を入力してください
E5: =IF(B5="","",IF(AND(B5>=DATE(2026,7,1), B5<=DATE(2026,7,31)), "◯", "×（期間外）")) | F5: =IF(C5>0, ROUND(D5/C5, 2), 0) -> 0 | G5: =IF(A5="", "", IF(LEFT(E5,1)="×", 0, IF(TRIM(A5)="重油", IF(C5>=8000, 94.2, 106.7), IF(TRIM(A5)="軽油", 78.6, IF(TRIM(A5)="灯油", 90.2, 0))))) | H5: =IF(F5>G5, F5-G5, 0) -> 0 | I5: =IF(E5="◯", ROUNDDOWN(C5 * H5, 0), 0) -> 0 | K5: 購入量 | L5: 購入量を入力してください
E6: =IF(B6="","",IF(AND(B6>=DATE(2026,7,1), B6<=DATE(2026,7,31)), "◯", "×（期間外）")) | F6: =IF(C6>0, ROUND(D6/C6, 2), 0) -> 0 | G6: =IF(A6="", "", IF(LEFT(E6,1)="×", 0, IF(TRIM(A6)="重油", IF(C6>=8000, 94.2, 106.7), IF(TRIM(A6)="軽油", 78.6, IF(TRIM(A6)="灯油", 90.2, 0))))) | H6: =IF(F6>G6, F6-G6, 0) -> 0 | I6: =IF(E6="◯", ROUNDDOWN(C6 * H6, 0), 0) -> 0 | K6: 支払金額 | L6: 支払金額を税抜きで入力してください
E7: =IF(B7="","",IF(AND(B7>=DATE(2026,7,1), B7<=DATE(2026,7,31)), "◯", "×（期間外）")) | F7: =IF(C7>0, ROUND(D7/C7, 2), 0) -> 0 | G7: =IF(A7="", "", IF(LEFT(E7,1)="×", 0, IF(TRIM(A7)="重油", IF(C7>=8000, 94.2, 106.7), IF(TRIM(A7)="軽油", 78.6, IF(TRIM(A7)="灯油", 90.2, 0))))) | H7: =IF(F7>G7, F7-G7, 0) -> 0 | I7: =IF(E7="◯", ROUNDDOWN(C7 * H7, 0), 0) -> 0
E8: =IF(B8="","",IF(AND(B8>=DATE(2026,7,1), B8<=DATE(2026,7,31)), "◯", "×（期間外）")) | F8: =IF(C8>0, ROUND(D8/C8, 2), 0) -> 0 | G8: =IF(A8="", "", IF(LEFT(E8,1)="×", 0, IF(TRIM(A8)="重油", IF(C8>=8000, 94.2, 106.7), IF(TRIM(A8)="軽油", 78.6, IF(TRIM(A8)="灯油", 90.2, 0))))) | H8: =IF(F8>G8, F8-G8, 0) -> 0 | I8: =IF(E8="◯", ROUNDDOWN(C8 * H8, 0), 0) -> 0
E9: =IF(B9="","",IF(AND(B9>=DATE(2026,7,1), B9<=DATE(2026,7,31)), "◯", "×（期間外）")) | F9: =IF(C9>0, ROUND(D9/C9, 2), 0) -> 0 | G9: =IF(A9="", "", IF(LEFT(E9,1)="×", 0, IF(TRIM(A9)="重油", IF(C9>=8000, 94.2, 106.7), IF(TRIM(A9)="軽油", 78.6, IF(TRIM(A9)="灯油", 90.2, 0))))) | H9: =IF(F9>G9, F9-G9, 0) -> 0 | I9: =IF(E9="◯", ROUNDDOWN(C9 * H9, 0), 0) -> 0
E10: =IF(B10="","",IF(AND(B10>=DATE(2026,7,1), B10<=DATE(2026,7,31)), "◯", "×（期間外）")) | F10: =IF(C10>0, ROUND(D10/C10, 2), 0) -> 0 | G10: =IF(A10="", "", IF(LEFT(E10,1)="×", 0, IF(TRIM(A10)="重油", IF(C10>=8000, 94.2, 106.7), IF(TRIM(A10)="軽油", 78.6, IF(TRIM(A10)="灯油", 90.2, 0))))) | H10: =IF(F10>G10, F10-G10, 0) -> 0 | I10: =IF(E10="◯", ROUNDDOWN(C10 * H10, 0), 0) -> 0
E11: =IF(B11="","",IF(AND(B11>=DATE(2026,7,1), B11<=DATE(2026,7,31)), "◯", "×（期間外）")) | F11: =IF(C11>0, ROUND(D11/C11, 2), 0) -> 0 | G11: =IF(A11="", "", IF(LEFT(E11,1)="×", 0, IF(TRIM(A11)="重油", IF(C11>=8000, 94.2, 106.7), IF(TRIM(A11)="軽油", 78.6, IF(TRIM(A11)="灯油", 90.2, 0))))) | H11: =IF(F11>G11, F11-G11, 0) -> 0 | I11: =IF(E11="◯", ROUNDDOWN(C11 * H11, 0), 0) -> 0
E12: =IF(B12="","",IF(AND(B12>=DATE(2026,7,1), B12<=DATE(2026,7,31)), "◯", "×（期間外）")) | F12: =IF(C12>0, ROUND(D12/C12, 2), 0) -> 0 | G12: =IF(A12="", "", IF(LEFT(E12,1)="×", 0, IF(TRIM(A12)="重油", IF(C12>=8000, 94.2, 106.7), IF(TRIM(A12)="軽油", 78.6, IF(TRIM(A12)="灯油", 90.2, 0))))) | H12: =IF(F12>G12, F12-G12, 0) -> 0 | I12: =IF(E12="◯", ROUNDDOWN(C12 * H12, 0), 0) -> 0
E13: =IF(B13="","",IF(AND(B13>=DATE(2026,7,1), B13<=DATE(2026,7,31)), "◯", "×（期間外）")) | F13: =IF(C13>0, ROUND(D13/C13, 2), 0) -> 0 | G13: =IF(A13="", "", IF(LEFT(E13,1)="×", 0, IF(TRIM(A13)="重油", IF(C13>=8000, 94.2, 106.7), IF(TRIM(A13)="軽油", 78.6, IF(TRIM(A13)="灯油", 90.2, 0))))) | H13: =IF(F13>G13, F13-G13, 0) -> 0 | I13: =IF(E13="◯", ROUNDDOWN(C13 * H13, 0), 0) -> 0
E14: =IF(B14="","",IF(AND(B14>=DATE(2026,7,1), B14<=DATE(2026,7,31)), "◯", "×（期間外）")) | F14: =IF(C14>0, ROUND(D14/C14, 2), 0) -> 0 | G14: =IF(A14="", "", IF(LEFT(E14,1)="×", 0, IF(TRIM(A14)="重油", IF(C14>=8000, 94.2, 106.7), IF(TRIM(A14)="軽油", 78.6, IF(TRIM(A14)="灯油", 90.2, 0))))) | H14: =IF(F14>G14, F14-G14, 0) -> 0 | I14: =IF(E14="◯", ROUNDDOWN(C14 * H14, 0), 0) -> 0
E15: =IF(B15="","",IF(AND(B15>=DATE(2026,7,1), B15<=DATE(2026,7,31)), "◯", "×（期間外）")) | F15: =IF(C15>0, ROUND(D15/C15, 2), 0) -> 0 | G15: =IF(A15="", "", IF(LEFT(E15,1)="×", 0, IF(TRIM(A15)="重油", IF(C15>=8000, 94.2, 106.7), IF(TRIM(A15)="軽油", 78.6, IF(TRIM(A15)="灯油", 90.2, 0))))) | H15: =IF(F15>G15, F15-G15, 0) -> 0 | I15: =IF(E15="◯", ROUNDDOWN(C15 * H15, 0), 0) -> 0
E16: =IF(B16="","",IF(AND(B16>=DATE(2026,7,1), B16<=DATE(2026,7,31)), "◯", "×（期間外）")) | F16: =IF(C16>0, ROUND(D16/C16, 2), 0) -> 0 | G16: =IF(A16="", "", IF(LEFT(E16,1)="×", 0, IF(TRIM(A16)="重油", IF(C16>=8000, 94.2, 106.7), IF(TRIM(A16)="軽油", 78.6, IF(TRIM(A16)="灯油", 90.2, 0))))) | H16: =IF(F16>G16, F16-G16, 0) -> 0 | I16: =IF(E16="◯", ROUNDDOWN(C16 * H16, 0), 0) -> 0
E17: =IF(B17="","",IF(AND(B17>=DATE(2026,7,1), B17<=DATE(2026,7,31)), "◯", "×（期間外）")) | F17: =IF(C17>0, ROUND(D17/C17, 2), 0) -> 0 | G17: =IF(A17="", "", IF(LEFT(E17,1)="×", 0, IF(TRIM(A17)="重油", IF(C17>=8000, 94.2, 106.7), IF(TRIM(A17)="軽油", 78.6, IF(TRIM(A17)="灯油", 90.2, 0))))) | H17: =IF(F17>G17, F17-G17, 0) -> 0 | I17: =IF(E17="◯", ROUNDDOWN(C17 * H17, 0), 0) -> 0
E18: =IF(B18="","",IF(AND(B18>=DATE(2026,7,1), B18<=DATE(2026,7,31)), "◯", "×（期間外）")) | F18: =IF(C18>0, ROUND(D18/C18, 2), 0) -> 0 | G18: =IF(A18="", "", IF(LEFT(E18,1)="×", 0, IF(TRIM(A18)="重油", IF(C18>=8000, 94.2, 106.7), IF(TRIM(A18)="軽油", 78.6, IF(TRIM(A18)="灯油", 90.2, 0))))) | H18: =IF(F18>G18, F18-G18, 0) -> 0 | I18: =IF(E18="◯", ROUNDDOWN(C18 * H18, 0), 0) -> 0
... E63: =IF(B63="","",IF(AND(B63>=DATE(2026,7,1), B63<=DATE(2026,7,31)), "◯", "×（期間外）")) | F63: =IF(C63>0, ROUND(D63/C63, 2), 0) -> 0 | G63: =IF(A63="", "", IF(LEFT(E63,1)="×", 0, IF(TRIM(A63)="重油", IF(C63>=8000, 94.2, 106.7), IF(TRIM(A63)="軽油", 78.6, IF(TRIM(A63)="灯油", 90.2, 0))))) | H63: =IF(F63>G63, F63-G63, 0) -> 0 | I63: =IF(E63="◯", ROUNDDOWN(C63 * H63, 0), 0) -> 0
G65: 算定額
G66: 重油 | H66: =SUMIF(A4:A137, "重油", I4:I137) -> 0
G67: 軽油 | H67: =SUMIF(A4:A137, "軽油", I4:I137) -> 0
G68: 灯油 | H68: =SUMIF(A4:A137, "灯油", I4:I137) -> 0

Sheet 8月分
A1: 8 | C1: 月分
A2: ← 黄色の部分に入力してください →
A3: 油種 | B3: 納品日 | C3: 購入量(L) | D3: 支払金額(円※税抜) | E3: 期間判定 | F3: 購入単価 | G3: 基準単価 | H3: 差額単価 | I3: 算定額(円) | K3: 油種 | L3: 油種を選択してください
E4: =IF(B4="","",IF(AND(B4>=DATE(2026,8,1), B4<=DATE(2026,8,31)), "◯", "×（期間外）")) | F4: =IF(C4>0, ROUND(D4/C4, 2), 0) -> 0 | G4: =IF(A4="", "", IF(LEFT(E4,1)="×", 0, IF(TRIM(A4)="重油", IF(C4>=8000, 94.2, 106.7), IF(TRIM(A4)="軽油", 78.6, IF(TRIM(A4)="灯油", 90.2, 0))))) | H4: =IF(F4>G4, F4-G4, 0) -> 0 | I4: =IF(E4="◯", ROUNDDOWN(C4 * H4, 0), 0) -> 0 | K4: 納品日 | L4: 納品日を入力してください
E5: =IF(B5="","",IF(AND(B5>=DATE(2026,8,1), B5<=DATE(2026,8,31)), "◯", "×（期間外）")) | F5: =IF(C5>0, ROUND(D5/C5, 2), 0) -> 0 | G5: =IF(A5="", "", IF(LEFT(E5,1)="×", 0, IF(TRIM(A5)="重油", IF(C5>=8000, 94.2, 106.7), IF(TRIM(A5)="軽油", 78.6, IF(TRIM(A5)="灯油", 90.2, 0))))) | H5: =IF(F5>G5, F5-G5, 0) -> 0 | I5: =IF(E5="◯", ROUNDDOWN(C5 * H5, 0), 0) -> 0 | K5: 購入量 | L5: 購入量を入力してください
E6: =IF(B6="","",IF(AND(B6>=DATE(2026,8,1), B6<=DATE(2026,8,31)), "◯", "×（期間外）")) | F6: =IF(C6>0, ROUND(D6/C6, 2), 0) -> 0 | G6: =IF(A6="", "", IF(LEFT(E6,1)="×", 0, IF(TRIM(A6)="重油", IF(C6>=8000, 94.2, 106.7), IF(TRIM(A6)="軽油", 78.6, IF(TRIM(A6)="灯油", 90.2, 0))))) | H6: =IF(F6>G6, F6-G6, 0) -> 0 | I6: =IF(E6="◯", ROUNDDOWN(C6 * H6, 0), 0) -> 0 | K6: 支払金額 | L6: 支払金額を税抜きで入力してください
E7: =IF(B7="","",IF(AND(B7>=DATE(2026,8,1), B7<=DATE(2026,8,31)), "◯", "×（期間外）")) | F7: =IF(C7>0, ROUND(D7/C7, 2), 0) -> 0 | G7: =IF(A7="", "", IF(LEFT(E7,1)="×", 0, IF(TRIM(A7)="重油", IF(C7>=8000, 94.2, 106.7), IF(TRIM(A7)="軽油", 78.6, IF(TRIM(A7)="灯油", 90.2, 0))))) | H7: =IF(F7>G7, F7-G7, 0) -> 0 | I7: =IF(E7="◯", ROUNDDOWN(C7 * H7, 0), 0) -> 0
E8: =IF(B8="","",IF(AND(B8>=DATE(2026,8,1), B8<=DATE(2026,8,31)), "◯", "×（期間外）")) | F8: =IF(C8>0, ROUND(D8/C8, 2), 0) -> 0 | G8: =IF(A8="", "", IF(LEFT(E8,1)="×", 0, IF(TRIM(A8)="重油", IF(C8>=8000, 94.2, 106.7), IF(TRIM(A8)="軽油", 78.6, IF(TRIM(A8)="灯油", 90.2, 0))))) | H8: =IF(F8>G8, F8-G8, 0) -> 0 | I8: =IF(E8="◯", ROUNDDOWN(C8 * H8, 0), 0) -> 0
E9: =IF(B9="","",IF(AND(B9>=DATE(2026,8,1), B9<=DATE(2026,8,31)), "◯", "×（期間外）")) | F9: =IF(C9>0, ROUND(D9/C9, 2), 0) -> 0 | G9: =IF(A9="", "", IF(LEFT(E9,1)="×", 0, IF(TRIM(A9)="重油", IF(C9>=8000, 94.2, 106.7), IF(TRIM(A9)="軽油", 78.6, IF(TRIM(A9)="灯油", 90.2, 0))))) | H9: =IF(F9>G9, F9-G9, 0) -> 0 | I9: =IF(E9="◯", ROUNDDOWN(C9 * H9, 0), 0) -> 0
E10: =IF(B10="","",IF(AND(B10>=DATE(2026,8,1), B10<=DATE(2026,8,31)), "◯", "×（期間外）")) | F10: =IF(C10>0, ROUND(D10/C10, 2), 0) -> 0 | G10: =IF(A10="", "", IF(LEFT(E10,1)="×", 0, IF(TRIM(A10)="重油", IF(C10>=8000, 94.2, 106.7), IF(TRIM(A10)="軽油", 78.6, IF(TRIM(A10)="灯油", 90.2, 0))))) | H10: =IF(F10>G10, F10-G10, 0) -> 0 | I10: =IF(E10="◯", ROUNDDOWN(C10 * H10, 0), 0) -> 0
E11: =IF(B11="","",IF(AND(B11>=DATE(2026,8,1), B11<=DATE(2026,8,31)), "◯", "×（期間外）")) | F11: =IF(C11>0, ROUND(D11/C11, 2), 0) -> 0 | G11: =IF(A11="", "", IF(LEFT(E11,1)="×", 0, IF(TRIM(A11)="重油", IF(C11>=8000, 94.2, 106.7), IF(TRIM(A11)="軽油", 78.6, IF(TRIM(A11)="灯油", 90.2, 0))))) | H11: =IF(F11>G11, F11-G11, 0) -> 0 | I11: =IF(E11="◯", ROUNDDOWN(C11 * H11, 0), 0) -> 0
E12: =IF(B12="","",IF(AND(B12>=DATE(2026,8,1), B12<=DATE(2026,8,31)), "◯", "×（期間外）")) | F12: =IF(C12>0, ROUND(D12/C12, 2), 0) -> 0 | G12: =IF(A12="", "", IF(LEFT(E12,1)="×", 0, IF(TRIM(A12)="重油", IF(C12>=8000, 94.2, 106.7), IF(TRIM(A12)="軽油", 78.6, IF(TRIM(A12)="灯油", 90.2, 0))))) | H12: =IF(F12>G12, F12-G12, 0) -> 0 | I12: =IF(E12="◯", ROUNDDOWN(C12 * H12, 0), 0) -> 0
E13: =IF(B13="","",IF(AND(B13>=DATE(2026,8,1), B13<=DATE(2026,8,31)), "◯", "×（期間外）")) | F13: =IF(C13>0, ROUND(D13/C13, 2), 0) -> 0 | G13: =IF(A13="", "", IF(LEFT(E13,1)="×", 0, IF(TRIM(A13)="重油", IF(C13>=8000, 94.2, 106.7), IF(TRIM(A13)="軽油", 78.6, IF(TRIM(A13)="灯油", 90.2, 0))))) | H13: =IF(F13>G13, F13-G13, 0) -> 0 | I13: =IF(E13="◯", ROUNDDOWN(C13 * H13, 0), 0) -> 0
E14: =IF(B14="","",IF(AND(B14>=DATE(2026,8,1), B14<=DATE(2026,8,31)), "◯", "×（期間外）")) | F14: =IF(C14>0, ROUND(D14/C14, 2), 0) -> 0 | G14: =IF(A14="", "", IF(LEFT(E14,1)="×", 0, IF(TRIM(A14)="重油", IF(C14>=8000, 94.2, 106.7), IF(TRIM(A14)="軽油", 78.6, IF(TRIM(A14)="灯油", 90.2, 0))))) | H14: =IF(F14>G14, F14-G14, 0) -> 0 | I14: =IF(E14="◯", ROUNDDOWN(C14 * H14, 0), 0) -> 0
E15: =IF(B15="","",IF(AND(B15>=DATE(2026,8,1), B15<=DATE(2026,8,31)), "◯", "×（期間外）")) | F15: =IF(C15>0, ROUND(D15/C15, 2), 0) -> 0 | G15: =IF(A15="", "", IF(LEFT(E15,1)="×", 0, IF(TRIM(A15)="重油", IF(C15>=8000, 94.2, 106.7), IF(TRIM(A15)="軽油", 78.6, IF(TRIM(A15)="灯油", 90.2, 0))))) | H15: =IF(F15>G15, F15-G15, 0) -> 0 | I15: =IF(E15="◯", ROUNDDOWN(C15 * H15, 0), 0) -> 0
E16: =IF(B16="","",IF(AND(B16>=DATE(2026,8,1), B16<=DATE(2026,8,31)), "◯", "×（期間外）")) | F16: =IF(C16>0, ROUND(D16/C16, 2), 0) -> 0 | G16: =IF(A16="", "", IF(LEFT(E16,1)="×", 0, IF(TRIM(A16)="重油", IF(C16>=8000, 94.2, 106.7), IF(TRIM(A16)="軽油", 78.6, IF(TRIM(A16)="灯油", 90.2, 0))))) | H16: =IF(F16>G16, F16-G16, 0) -> 0 | I16: =IF(E16="◯", ROUNDDOWN(C16 * H16, 0), 0) -> 0
E17: =IF(B17="","",IF(AND(B17>=DATE(2026,8,1), B17<=DATE(2026,8,31)), "◯", "×（期間外）")) | F17: =IF(C17>0, ROUND(D17/C17, 2), 0) -> 0 | G17: =IF(A17="", "", IF(LEFT(E17,1)="×", 0, IF(TRIM(A17)="重油", IF(C17>=8000, 94.2, 106.7), IF(TRIM(A17)="軽油", 78.6, IF(TRIM(A17)="灯油", 90.2, 0))))) | H17: =IF(F17>G17, F17-G17, 0) -> 0 | I17: =IF(E17="◯", ROUNDDOWN(C17 * H17, 0), 0) -> 0
E18: =IF(B18="","",IF(AND(B18>=DATE(2026,8,1), B18<=DATE(2026,8,31)), "◯", "×（期間外）")) | F18: =IF(C18>0, ROUND(D18/C18, 2), 0) -> 0 | G18: =IF(A18="", "", IF(LEFT(E18,1)="×", 0, IF(TRIM(A18)="重油", IF(C18>=8000, 94.2, 106.7), IF(TRIM(A18)="軽油", 78.6, IF(TRIM(A18)="灯油", 90.2, 0))))) | H18: =IF(F18>G18, F18-G18, 0) -> 0 | I18: =IF(E18="◯", ROUNDDOWN(C18 * H18, 0), 0) -> 0
... E63: =IF(B63="","",IF(AND(B63>=DATE(2026,8,1), B63<=DATE(2026,8,31)), "◯", "×（期間外）")) | F63: =IF(C63>0, ROUND(D63/C63, 2), 0) -> 0 | G63: =IF(A63="", "", IF(LEFT(E63,1)="×", 0, IF(TRIM(A63)="重油", IF(C63>=8000, 94.2, 106.7), IF(TRIM(A63)="軽油", 78.6, IF(TRIM(A63)="灯油", 90.2, 0))))) | H63: =IF(F63>G63, F63-G63, 0) -> 0 | I63: =IF(E63="◯", ROUNDDOWN(C63 * H63, 0), 0) -> 0
G65: 算定額
G66: 重油 | H66: =SUMIF(A4:A137, "重油", I4:I137) -> 0
G67: 軽油 | H67: =SUMIF(A4:A137, "軽油", I4:I137) -> 0
G68: 灯油 | H68: =SUMIF(A4:A137, "灯油", I4:I137) -> 0

Sheet 9月分
A1: 9 | C1: 月分
A2: ← 黄色の部分に入力してください →
A3: 油種 | B3: 納品日 | C3: 購入量(L) | D3: 支払金額(円※税抜) | E3: 期間判定 | F3: 購入単価 | G3: 基準単価 | H3: 差額単価 | I3: 算定額(円) | K3: 油種 | L3: 油種を選択してください
E4: =IF(B4="","",IF(AND(B4>=DATE(2026,9,1), B4<=DATE(2026,9,30)), "◯", "×（期間外）")) | F4: =IF(C4>0, ROUND(D4/C4, 2), 0) -> 0 | G4: =IF(A4="", "", IF(LEFT(E4,1)="×", 0, IF(TRIM(A4)="重油", IF(C4>=8000, 94.2, 106.7), IF(TRIM(A4)="軽油", 78.6, IF(TRIM(A4)="灯油", 90.2, 0))))) | H4: =IF(F4>G4, F4-G4, 0) -> 0 | I4: =IF(E4="◯", ROUNDDOWN(C4 * H4, 0), 0) -> 0 | K4: 納品日 | L4: 納品日を入力してください
E5: =IF(B5="","",IF(AND(B5>=DATE(2026,9,1), B5<=DATE(2026,9,30)), "◯", "×（期間外）")) | F5: =IF(C5>0, ROUND(D5/C5, 2), 0) -> 0 | G5: =IF(A5="", "", IF(LEFT(E5,1)="×", 0, IF(TRIM(A5)="重油", IF(C5>=8000, 94.2, 106.7), IF(TRIM(A5)="軽油", 78.6, IF(TRIM(A5)="灯油", 90.2, 0))))) | H5: =IF(F5>G5, F5-G5, 0) -> 0 | I5: =IF(E5="◯", ROUNDDOWN(C5 * H5, 0), 0) -> 0 | K5: 購入量 | L5: 購入量を入力してください
E6: =IF(B6="","",IF(AND(B6>=DATE(2026,9,1), B6<=DATE(2026,9,30)), "◯", "×（期間外）")) | F6: =IF(C6>0, ROUND(D6/C6, 2), 0) -> 0 | G6: =IF(A6="", "", IF(LEFT(E6,1)="×", 0, IF(TRIM(A6)="重油", IF(C6>=8000, 94.2, 106.7), IF(TRIM(A6)="軽油", 78.6, IF(TRIM(A6)="灯油", 90.2, 0))))) | H6: =IF(F6>G6, F6-G6, 0) -> 0 | I6: =IF(E6="◯", ROUNDDOWN(C6 * H6, 0), 0) -> 0 | K6: 支払金額 | L6: 支払金額を税抜きで入力してください
E7: =IF(B7="","",IF(AND(B7>=DATE(2026,9,1), B7<=DATE(2026,9,30)), "◯", "×（期間外）")) | F7: =IF(C7>0, ROUND(D7/C7, 2), 0) -> 0 | G7: =IF(A7="", "", IF(LEFT(E7,1)="×", 0, IF(TRIM(A7)="重油", IF(C7>=8000, 94.2, 106.7), IF(TRIM(A7)="軽油", 78.6, IF(TRIM(A7)="灯油", 90.2, 0))))) | H7: =IF(F7>G7, F7-G7, 0) -> 0 | I7: =IF(E7="◯", ROUNDDOWN(C7 * H7, 0), 0) -> 0
E8: =IF(B8="","",IF(AND(B8>=DATE(2026,9,1), B8<=DATE(2026,9,30)), "◯", "×（期間外）")) | F8: =IF(C8>0, ROUND(D8/C8, 2), 0) -> 0 | G8: =IF(A8="", "", IF(LEFT(E8,1)="×", 0, IF(TRIM(A8)="重油", IF(C8>=8000, 94.2, 106.7), IF(TRIM(A8)="軽油", 78.6, IF(TRIM(A8)="灯油", 90.2, 0))))) | H8: =IF(F8>G8, F8-G8, 0) -> 0 | I8: =IF(E8="◯", ROUNDDOWN(C8 * H8, 0), 0) -> 0
E9: =IF(B9="","",IF(AND(B9>=DATE(2026,9,1), B9<=DATE(2026,9,30)), "◯", "×（期間外）")) | F9: =IF(C9>0, ROUND(D9/C9, 2), 0) -> 0 | G9: =IF(A9="", "", IF(LEFT(E9,1)="×", 0, IF(TRIM(A9)="重油", IF(C9>=8000, 94.2, 106.7), IF(TRIM(A9)="軽油", 78.6, IF(TRIM(A9)="灯油", 90.2, 0))))) | H9: =IF(F9>G9, F9-G9, 0) -> 0 | I9: =IF(E9="◯", ROUNDDOWN(C9 * H9, 0), 0) -> 0
E10: =IF(B10="","",IF(AND(B10>=DATE(2026,9,1), B10<=DATE(2026,9,30)), "◯", "×（期間外）")) | F10: =IF(C10>0, ROUND(D10/C10, 2), 0) -> 0 | G10: =IF(A10="", "", IF(LEFT(E10,1)="×", 0, IF(TRIM(A10)="重油", IF(C10>=8000, 94.2, 106.7), IF(TRIM(A10)="軽油", 78.6, IF(TRIM(A10)="灯油", 90.2, 0))))) | H10: =IF(F10>G10, F10-G10, 0) -> 0 | I10: =IF(E10="◯", ROUNDDOWN(C10 * H10, 0), 0) -> 0
E11: =IF(B11="","",IF(AND(B11>=DATE(2026,9,1), B11<=DATE(2026,9,30)), "◯", "×（期間外）")) | F11: =IF(C11>0, ROUND(D11/C11, 2), 0) -> 0 | G11: =IF(A11="", "", IF(LEFT(E11,1)="×", 0, IF(TRIM(A11)="重油", IF(C11>=8000, 94.2, 106.7), IF(TRIM(A11)="軽油", 78.6, IF(TRIM(A11)="灯油", 90.2, 0))))) | H11: =IF(F11>G11, F11-G11, 0) -> 0 | I11: =IF(E11="◯", ROUNDDOWN(C11 * H11, 0), 0) -> 0
E12: =IF(B12="","",IF(AND(B12>=DATE(2026,9,1), B12<=DATE(2026,9,30)), "◯", "×（期間外）")) | F12: =IF(C12>0, ROUND(D12/C12, 2), 0) -> 0 | G12: =IF(A12="", "", IF(LEFT(E12,1)="×", 0, IF(TRIM(A12)="重油", IF(C12>=8000, 94.2, 106.7), IF(TRIM(A12)="軽油", 78.6, IF(TRIM(A12)="灯油", 90.2, 0))))) | H12: =IF(F12>G12, F12-G12, 0) -> 0 | I12: =IF(E12="◯", ROUNDDOWN(C12 * H12, 0), 0) -> 0
E13: =IF(B13="","",IF(AND(B13>=DATE(2026,9,1), B13<=DATE(2026,9,30)), "◯", "×（期間外）")) | F13: =IF(C13>0, ROUND(D13/C13, 2), 0) -> 0 | G13: =IF(A13="", "", IF(LEFT(E13,1)="×", 0, IF(TRIM(A13)="重油", IF(C13>=8000, 94.2, 106.7), IF(TRIM(A13)="軽油", 78.6, IF(TRIM(A13)="灯油", 90.2, 0))))) | H13: =IF(F13>G13, F13-G13, 0) -> 0 | I13: =IF(E13="◯", ROUNDDOWN(C13 * H13, 0), 0) -> 0
E14: =IF(B14="","",IF(AND(B14>=DATE(2026,9,1), B14<=DATE(2026,9,30)), "◯", "×（期間外）")) | F14: =IF(C14>0, ROUND(D14/C14, 2), 0) -> 0 | G14: =IF(A14="", "", IF(LEFT(E14,1)="×", 0, IF(TRIM(A14)="重油", IF(C14>=8000, 94.2, 106.7), IF(TRIM(A14)="軽油", 78.6, IF(TRIM(A14)="灯油", 90.2, 0))))) | H14: =IF(F14>G14, F14-G14, 0) -> 0 | I14: =IF(E14="◯", ROUNDDOWN(C14 * H14, 0), 0) -> 0
E15: =IF(B15="","",IF(AND(B15>=DATE(2026,9,1), B15<=DATE(2026,9,30)), "◯", "×（期間外）")) | F15: =IF(C15>0, ROUND(D15/C15, 2), 0) -> 0 | G15: =IF(A15="", "", IF(LEFT(E15,1)="×", 0, IF(TRIM(A15)="重油", IF(C15>=8000, 94.2, 106.7), IF(TRIM(A15)="軽油", 78.6, IF(TRIM(A15)="灯油", 90.2, 0))))) | H15: =IF(F15>G15, F15-G15, 0) -> 0 | I15: =IF(E15="◯", ROUNDDOWN(C15 * H15, 0), 0) -> 0
E16: =IF(B16="","",IF(AND(B16>=DATE(2026,9,1), B16<=DATE(2026,9,30)), "◯", "×（期間外）")) | F16: =IF(C16>0, ROUND(D16/C16, 2), 0) -> 0 | G16: =IF(A16="", "", IF(LEFT(E16,1)="×", 0, IF(TRIM(A16)="重油", IF(C16>=8000, 94.2, 106.7), IF(TRIM(A16)="軽油", 78.6, IF(TRIM(A16)="灯油", 90.2, 0))))) | H16: =IF(F16>G16, F16-G16, 0) -> 0 | I16: =IF(E16="◯", ROUNDDOWN(C16 * H16, 0), 0) -> 0
E17: =IF(B17="","",IF(AND(B17>=DATE(2026,9,1), B17<=DATE(2026,9,30)), "◯", "×（期間外）")) | F17: =IF(C17>0, ROUND(D17/C17, 2), 0) -> 0 | G17: =IF(A17="", "", IF(LEFT(E17,1)="×", 0, IF(TRIM(A17)="重油", IF(C17>=8000, 94.2, 106.7), IF(TRIM(A17)="軽油", 78.6, IF(TRIM(A17)="灯油", 90.2, 0))))) | H17: =IF(F17>G17, F17-G17, 0) -> 0 | I17: =IF(E17="◯", ROUNDDOWN(C17 * H17, 0), 0) -> 0
E18: =IF(B18="","",IF(AND(B18>=DATE(2026,9,1), B18<=DATE(2026,9,30)), "◯", "×（期間外）")) | F18: =IF(C18>0, ROUND(D18/C18, 2), 0) -> 0 | G18: =IF(A18="", "", IF(LEFT(E18,1)="×", 0, IF(TRIM(A18)="重油", IF(C18>=8000, 94.2, 106.7), IF(TRIM(A18)="軽油", 78.6, IF(TRIM(A18)="灯油", 90.2, 0))))) | H18: =IF(F18>G18, F18-G18, 0) -> 0 | I18: =IF(E18="◯", ROUNDDOWN(C18 * H18, 0), 0) -> 0
... E63: =IF(B63="","",IF(AND(B63>=DATE(2026,9,1), B63<=DATE(2026,9,30)), "◯", "×（期間外）")) | F63: =IF(C63>0, ROUND(D63/C63, 2), 0) -> 0 | G63: =IF(A63="", "", IF(LEFT(E63,1)="×", 0, IF(TRIM(A63)="重油", IF(C63>=8000, 94.2, 106.7), IF(TRIM(A63)="軽油", 78.6, IF(TRIM(A63)="灯油", 90.2, 0))))) | H63: =IF(F63>G63, F63-G63, 0) -> 0 | I63: =IF(E63="◯", ROUNDDOWN(C63 * H63, 0), 0) -> 0
G65: 算定額
G66: 重油 | H66: =SUMIF(A4:A137, "重油", I4:I137) -> 0
G67: 軽油 | H67: =SUMIF(A4:A137, "軽油", I4:I137) -> 0
G68: 灯油 | H68: =SUMIF(A4:A137, "灯油", I4:I137) -> 0

Sheet 10月分
A1: 10 | C1: 月分
A2: ← 黄色の部分に入力してください →
A3: 油種 | B3: 納品日 | C3: 購入量(L) | D3: 支払金額(円※税抜) | E3: 期間判定 | F3: 購入単価 | G3: 基準単価 | H3: 差額単価 | I3: 算定額(円) | K3: 油種 | L3: 油種を選択してください
E4: =IF(B4="","",IF(AND(B4>=DATE(2026,10,1), B4<=DATE(2026,10,31)), "◯", "×（期間外）")) | F4: =IF(C4>0, ROUND(D4/C4, 2), 0) -> 0 | G4: =IF(A4="", "", IF(LEFT(E4,1)="×", 0, IF(TRIM(A4)="重油", IF(C4>=8000, 94.2, 106.7), IF(TRIM(A4)="軽油", 78.6, IF(TRIM(A4)="灯油", 90.2, 0))))) | H4: =IF(F4>G4, F4-G4, 0) -> 0 | I4: =IF(E4="◯", ROUNDDOWN(C4 * H4, 0), 0) -> 0 | K4: 納品日 | L4: 納品日を入力してください
E5: =IF(B5="","",IF(AND(B5>=DATE(2026,10,1), B5<=DATE(2026,10,31)), "◯", "×（期間外）")) | F5: =IF(C5>0, ROUND(D5/C5, 2), 0) -> 0 | G5: =IF(A5="", "", IF(LEFT(E5,1)="×", 0, IF(TRIM(A5)="重油", IF(C5>=8000, 94.2, 106.7), IF(TRIM(A5)="軽油", 78.6, IF(TRIM(A5)="灯油", 90.2, 0))))) | H5: =IF(F5>G5, F5-G5, 0) -> 0 | I5: =IF(E5="◯", ROUNDDOWN(C5 * H5, 0), 0) -> 0 | K5: 購入量 | L5: 購入量を入力してください
E6: =IF(B6="","",IF(AND(B6>=DATE(2026,10,1), B6<=DATE(2026,10,31)), "◯", "×（期間外）")) | F6: =IF(C6>0, ROUND(D6/C6, 2), 0) -> 0 | G6: =IF(A6="", "", IF(LEFT(E6,1)="×", 0, IF(TRIM(A6)="重油", IF(C6>=8000, 94.2, 106.7), IF(TRIM(A6)="軽油", 78.6, IF(TRIM(A6)="灯油", 90.2, 0))))) | H6: =IF(F6>G6, F6-G6, 0) -> 0 | I6: =IF(E6="◯", ROUNDDOWN(C6 * H6, 0), 0) -> 0 | K6: 支払金額 | L6: 支払金額を税抜きで入力してください
E7: =IF(B7="","",IF(AND(B7>=DATE(2026,10,1), B7<=DATE(2026,10,31)), "◯", "×（期間外）")) | F7: =IF(C7>0, ROUND(D7/C7, 2), 0) -> 0 | G7: =IF(A7="", "", IF(LEFT(E7,1)="×", 0, IF(TRIM(A7)="重油", IF(C7>=8000, 94.2, 106.7), IF(TRIM(A7)="軽油", 78.6, IF(TRIM(A7)="灯油", 90.2, 0))))) | H7: =IF(F7>G7, F7-G7, 0) -> 0 | I7: =IF(E7="◯", ROUNDDOWN(C7 * H7, 0), 0) -> 0
E8: =IF(B8="","",IF(AND(B8>=DATE(2026,10,1), B8<=DATE(2026,10,31)), "◯", "×（期間外）")) | F8: =IF(C8>0, ROUND(D8/C8, 2), 0) -> 0 | G8: =IF(A8="", "", IF(LEFT(E8,1)="×", 0, IF(TRIM(A8)="重油", IF(C8>=8000, 94.2, 106.7), IF(TRIM(A8)="軽油", 78.6, IF(TRIM(A8)="灯油", 90.2, 0))))) | H8: =IF(F8>G8, F8-G8, 0) -> 0 | I8: =IF(E8="◯", ROUNDDOWN(C8 * H8, 0), 0) -> 0
E9: =IF(B9="","",IF(AND(B9>=DATE(2026,10,1), B9<=DATE(2026,10,31)), "◯", "×（期間外）")) | F9: =IF(C9>0, ROUND(D9/C9, 2), 0) -> 0 | G9: =IF(A9="", "", IF(LEFT(E9,1)="×", 0, IF(TRIM(A9)="重油", IF(C9>=8000, 94.2, 106.7), IF(TRIM(A9)="軽油", 78.6, IF(TRIM(A9)="灯油", 90.2, 0))))) | H9: =IF(F9>G9, F9-G9, 0) -> 0 | I9: =IF(E9="◯", ROUNDDOWN(C9 * H9, 0), 0) -> 0
E10: =IF(B10="","",IF(AND(B10>=DATE(2026,10,1), B10<=DATE(2026,10,31)), "◯", "×（期間外）")) | F10: =IF(C10>0, ROUND(D10/C10, 2), 0) -> 0 | G10: =IF(A10="", "", IF(LEFT(E10,1)="×", 0, IF(TRIM(A10)="重油", IF(C10>=8000, 94.2, 106.7), IF(TRIM(A10)="軽油", 78.6, IF(TRIM(A10)="灯油", 90.2, 0))))) | H10: =IF(F10>G10, F10-G10, 0) -> 0 | I10: =IF(E10="◯", ROUNDDOWN(C10 * H10, 0), 0) -> 0
E11: =IF(B11="","",IF(AND(B11>=DATE(2026,10,1), B11<=DATE(2026,10,31)), "◯", "×（期間外）")) | F11: =IF(C11>0, ROUND(D11/C11, 2), 0) -> 0 | G11: =IF(A11="", "", IF(LEFT(E11,1)="×", 0, IF(TRIM(A11)="重油", IF(C11>=8000, 94.2, 106.7), IF(TRIM(A11)="軽油", 78.6, IF(TRIM(A11)="灯油", 90.2, 0))))) | H11: =IF(F11>G11, F11-G11, 0) -> 0 | I11: =IF(E11="◯", ROUNDDOWN(C11 * H11, 0), 0) -> 0
E12: =IF(B12="","",IF(AND(B12>=DATE(2026,10,1), B12<=DATE(2026,10,31)), "◯", "×（期間外）")) | F12: =IF(C12>0, ROUND(D12/C12, 2), 0) -> 0 | G12: =IF(A12="", "", IF(LEFT(E12,1)="×", 0, IF(TRIM(A12)="重油", IF(C12>=8000, 94.2, 106.7), IF(TRIM(A12)="軽油", 78.6, IF(TRIM(A12)="灯油", 90.2, 0))))) | H12: =IF(F12>G12, F12-G12, 0) -> 0 | I12: =IF(E12="◯", ROUNDDOWN(C12 * H12, 0), 0) -> 0
E13: =IF(B13="","",IF(AND(B13>=DATE(2026,10,1), B13<=DATE(2026,10,31)), "◯", "×（期間外）")) | F13: =IF(C13>0, ROUND(D13/C13, 2), 0) -> 0 | G13: =IF(A13="", "", IF(LEFT(E13,1)="×", 0, IF(TRIM(A13)="重油", IF(C13>=8000, 94.2, 106.7), IF(TRIM(A13)="軽油", 78.6, IF(TRIM(A13)="灯油", 90.2, 0))))) | H13: =IF(F13>G13, F13-G13, 0) -> 0 | I13: =IF(E13="◯", ROUNDDOWN(C13 * H13, 0), 0) -> 0
E14: =IF(B14="","",IF(AND(B14>=DATE(2026,10,1), B14<=DATE(2026,10,31)), "◯", "×（期間外）")) | F14: =IF(C14>0, ROUND(D14/C14, 2), 0) -> 0 | G14: =IF(A14="", "", IF(LEFT(E14,1)="×", 0, IF(TRIM(A14)="重油", IF(C14>=8000, 94.2, 106.7), IF(TRIM(A14)="軽油", 78.6, IF(TRIM(A14)="灯油", 90.2, 0))))) | H14: =IF(F14>G14, F14-G14, 0) -> 0 | I14: =IF(E14="◯", ROUNDDOWN(C14 * H14, 0), 0) -> 0
E15: =IF(B15="","",IF(AND(B15>=DATE(2026,10,1), B15<=DATE(2026,10,31)), "◯", "×（期間外）")) | F15: =IF(C15>0, ROUND(D15/C15, 2), 0) -> 0 | G15: =IF(A15="", "", IF(LEFT(E15,1)="×", 0, IF(TRIM(A15)="重油", IF(C15>=8000, 94.2, 106.7), IF(TRIM(A15)="軽油", 78.6, IF(TRIM(A15)="灯油", 90.2, 0))))) | H15: =IF(F15>G15, F15-G15, 0) -> 0 | I15: =IF(E15="◯", ROUNDDOWN(C15 * H15, 0), 0) -> 0
E16: =IF(B16="","",IF(AND(B16>=DATE(2026,10,1), B16<=DATE(2026,10,31)), "◯", "×（期間外）")) | F16: =IF(C16>0, ROUND(D16/C16, 2), 0) -> 0 | G16: =IF(A16="", "", IF(LEFT(E16,1)="×", 0, IF(TRIM(A16)="重油", IF(C16>=8000, 94.2, 106.7), IF(TRIM(A16)="軽油", 78.6, IF(TRIM(A16)="灯油", 90.2, 0))))) | H16: =IF(F16>G16, F16-G16, 0) -> 0 | I16: =IF(E16="◯", ROUNDDOWN(C16 * H16, 0), 0) -> 0
E17: =IF(B17="","",IF(AND(B17>=DATE(2026,10,1), B17<=DATE(2026,10,31)), "◯", "×（期間外）")) | F17: =IF(C17>0, ROUND(D17/C17, 2), 0) -> 0 | G17: =IF(A17="", "", IF(LEFT(E17,1)="×", 0, IF(TRIM(A17)="重油", IF(C17>=8000, 94.2, 106.7), IF(TRIM(A17)="軽油", 78.6, IF(TRIM(A17)="灯油", 90.2, 0))))) | H17: =IF(F17>G17, F17-G17, 0) -> 0 | I17: =IF(E17="◯", ROUNDDOWN(C17 * H17, 0), 0) -> 0
E18: =IF(B18="","",IF(AND(B18>=DATE(2026,10,1), B18<=DATE(2026,10,31)), "◯", "×（期間外）")) | F18: =IF(C18>0, ROUND(D18/C18, 2), 0) -> 0 | G18: =IF(A18="", "", IF(LEFT(E18,1)="×", 0, IF(TRIM(A18)="重油", IF(C18>=8000, 94.2, 106.7), IF(TRIM(A18)="軽油", 78.6, IF(TRIM(A18)="灯油", 90.2, 0))))) | H18: =IF(F18>G18, F18-G18, 0) -> 0 | I18: =IF(E18="◯", ROUNDDOWN(C18 * H18, 0), 0) -> 0
... E63: =IF(B63="","",IF(AND(B63>=DATE(2026,10,1), B63<=DATE(2026,10,31)), "◯", "×（期間外）")) | F63: =IF(C63>0, ROUND(D63/C63, 2), 0) -> 0 | G63: =IF(A63="", "", IF(LEFT(E63,1)="×", 0, IF(TRIM(A63)="重油", IF(C63>=8000, 94.2, 106.7), IF(TRIM(A63)="軽油", 78.6, IF(TRIM(A63)="灯油", 90.2, 0))))) | H63: =IF(F63>G63, F63-G63, 0) -> 0 | I63: =IF(E63="◯", ROUNDDOWN(C63 * H63, 0), 0) -> 0
G65: 算定額
G66: 重油 | H66: =SUMIF(A4:A137, "重油", I4:I137) -> 0
G67: 軽油 | H67: =SUMIF(A4:A137, "軽油", I4:I137) -> 0
G68: 灯油 | H68: =SUMIF(A4:A137, "灯油", I4:I137) -> 0

Sheet 11月分
A1: 11 | C1: 月分
A2: ← 黄色の部分に入力してください →
A3: 油種 | B3: 納品日 | C3: 購入量(L) | D3: 支払金額(円※税抜) | E3: 期間判定 | F3: 購入単価 | G3: 基準単価 | H3: 差額単価 | I3: 算定額(円) | K3: 油種 | L3: 油種を選択してください
E4: =IF(B4="","",IF(AND(B4>=DATE(2026,11,1), B4<=DATE(2026,11,31)), "◯", "×（期間外）")) | F4: =IF(C4>0, ROUND(D4/C4, 2), 0) -> 0 | G4: =IF(A4="", "", IF(LEFT(E4,1)="×", 0, IF(TRIM(A4)="重油", IF(C4>=8000, 94.2, 106.7), IF(TRIM(A4)="軽油", 78.6, IF(TRIM(A4)="灯油", 90.2, 0))))) | H4: =IF(F4>G4, F4-G4, 0) -> 0 | I4: =IF(E4="◯", ROUNDDOWN(C4 * H4, 0), 0) -> 0 | K4: 納品日 | L4: 納品日を入力してください
E5: =IF(B5="","",IF(AND(B5>=DATE(2026,11,1), B5<=DATE(2026,11,31)), "◯", "×（期間外）")) | F5: =IF(C5>0, ROUND(D5/C5, 2), 0) -> 0 | G5: =IF(A5="", "", IF(LEFT(E5,1)="×", 0, IF(TRIM(A5)="重油", IF(C5>=8000, 94.2, 106.7), IF(TRIM(A5)="軽油", 78.6, IF(TRIM(A5)="灯油", 90.2, 0))))) | H5: =IF(F5>G5, F5-G5, 0) -> 0 | I5: =IF(E5="◯", ROUNDDOWN(C5 * H5, 0), 0) -> 0 | K5: 購入量 | L5: 購入量を入力してください
E6: =IF(B6="","",IF(AND(B6>=DATE(2026,11,1), B6<=DATE(2026,11,31)), "◯", "×（期間外）")) | F6: =IF(C6>0, ROUND(D6/C6, 2), 0) -> 0 | G6: =IF(A6="", "", IF(LEFT(E6,1)="×", 0, IF(TRIM(A6)="重油", IF(C6>=8000, 94.2, 106.7), IF(TRIM(A6)="軽油", 78.6, IF(TRIM(A6)="灯油", 90.2, 0))))) | H6: =IF(F6>G6, F6-G6, 0) -> 0 | I6: =IF(E6="◯", ROUNDDOWN(C6 * H6, 0), 0) -> 0 | K6: 支払金額 | L6: 支払金額を税抜きで入力してください
E7: =IF(B7="","",IF(AND(B7>=DATE(2026,11,1), B7<=DATE(2026,11,31)), "◯", "×（期間外）")) | F7: =IF(C7>0, ROUND(D7/C7, 2), 0) -> 0 | G7: =IF(A7="", "", IF(LEFT(E7,1)="×", 0, IF(TRIM(A7)="重油", IF(C7>=8000, 94.2, 106.7), IF(TRIM(A7)="軽油", 78.6, IF(TRIM(A7)="灯油", 90.2, 0))))) | H7: =IF(F7>G7, F7-G7, 0) -> 0 | I7: =IF(E7="◯", ROUNDDOWN(C7 * H7, 0), 0) -> 0
E8: =IF(B8="","",IF(AND(B8>=DATE(2026,11,1), B8<=DATE(2026,11,31)), "◯", "×（期間外）")) | F8: =IF(C8>0, ROUND(D8/C8, 2), 0) -> 0 | G8: =IF(A8="", "", IF(LEFT(E8,1)="×", 0, IF(TRIM(A8)="重油", IF(C8>=8000, 94.2, 106.7), IF(TRIM(A8)="軽油", 78.6, IF(TRIM(A8)="灯油", 90.2, 0))))) | H8: =IF(F8>G8, F8-G8, 0) -> 0 | I8: =IF(E8="◯", ROUNDDOWN(C8 * H8, 0), 0) -> 0
E9: =IF(B9="","",IF(AND(B9>=DATE(2026,11,1), B9<=DATE(2026,11,31)), "◯", "×（期間外）")) | F9: =IF(C9>0, ROUND(D9/C9, 2), 0) -> 0 | G9: =IF(A9="", "", IF(LEFT(E9,1)="×", 0, IF(TRIM(A9)="重油", IF(C9>=8000, 94.2, 106.7), IF(TRIM(A9)="軽油", 78.6, IF(TRIM(A9)="灯油", 90.2, 0))))) | H9: =IF(F9>G9, F9-G9, 0) -> 0 | I9: =IF(E9="◯", ROUNDDOWN(C9 * H9, 0), 0) -> 0
E10: =IF(B10="","",IF(AND(B10>=DATE(2026,11,1), B10<=DATE(2026,11,31)), "◯", "×（期間外）")) | F10: =IF(C10>0, ROUND(D10/C10, 2), 0) -> 0 | G10: =IF(A10="", "", IF(LEFT(E10,1)="×", 0, IF(TRIM(A10)="重油", IF(C10>=8000, 94.2, 106.7), IF(TRIM(A10)="軽油", 78.6, IF(TRIM(A10)="灯油", 90.2, 0))))) | H10: =IF(F10>G10, F10-G10, 0) -> 0 | I10: =IF(E10="◯", ROUNDDOWN(C10 * H10, 0), 0) -> 0
E11: =IF(B11="","",IF(AND(B11>=DATE(2026,11,1), B11<=DATE(2026,11,31)), "◯", "×（期間外）")) | F11: =IF(C11>0, ROUND(D11/C11, 2), 0) -> 0 | G11: =IF(A11="", "", IF(LEFT(E11,1)="×", 0, IF(TRIM(A11)="重油", IF(C11>=8000, 94.2, 106.7), IF(TRIM(A11)="軽油", 78.6, IF(TRIM(A11)="灯油", 90.2, 0))))) | H11: =IF(F11>G11, F11-G11, 0) -> 0 | I11: =IF(E11="◯", ROUNDDOWN(C11 * H11, 0), 0) -> 0
E12: =IF(B12="","",IF(AND(B12>=DATE(2026,11,1), B12<=DATE(2026,11,31)), "◯", "×（期間外）")) | F12: =IF(C12>0, ROUND(D12/C12, 2), 0) -> 0 | G12: =IF(A12="", "", IF(LEFT(E12,1)="×", 0, IF(TRIM(A12)="重油", IF(C12>=8000, 94.2, 106.7), IF(TRIM(A12)="軽油", 78.6, IF(TRIM(A12)="灯油", 90.2, 0))))) | H12: =IF(F12>G12, F12-G12, 0) -> 0 | I12: =IF(E12="◯", ROUNDDOWN(C12 * H12, 0), 0) -> 0
E13: =IF(B13="","",IF(AND(B13>=DATE(2026,11,1), B13<=DATE(2026,11,31)), "◯", "×（期間外）")) | F13: =IF(C13>0, ROUND(D13/C13, 2), 0) -> 0 | G13: =IF(A13="", "", IF(LEFT(E13,1)="×", 0, IF(TRIM(A13)="重油", IF(C13>=8000, 94.2, 106.7), IF(TRIM(A13)="軽油", 78.6, IF(TRIM(A13)="灯油", 90.2, 0))))) | H13: =IF(F13>G13, F13-G13, 0) -> 0 | I13: =IF(E13="◯", ROUNDDOWN(C13 * H13, 0), 0) -> 0
E14: =IF(B14="","",IF(AND(B14>=DATE(2026,11,1), B14<=DATE(2026,11,31)), "◯", "×（期間外）")) | F14: =IF(C14>0, ROUND(D14/C14, 2), 0) -> 0 | G14: =IF(A14="", "", IF(LEFT(E14,1)="×", 0, IF(TRIM(A14)="重油", IF(C14>=8000, 94.2, 106.7), IF(TRIM(A14)="軽油", 78.6, IF(TRIM(A14)="灯油", 90.2, 0))))) | H14: =IF(F14>G14, F14-G14, 0) -> 0 | I14: =IF(E14="◯", ROUNDDOWN(C14 * H14, 0), 0) -> 0
E15: =IF(B15="","",IF(AND(B15>=DATE(2026,11,1), B15<=DATE(2026,11,31)), "◯", "×（期間外）")) | F15: =IF(C15>0, ROUND(D15/C15, 2), 0) -> 0 | G15: =IF(A15="", "", IF(LEFT(E15,1)="×", 0, IF(TRIM(A15)="重油", IF(C15>=8000, 94.2, 106.7), IF(TRIM(A15)="軽油", 78.6, IF(TRIM(A15)="灯油", 90.2, 0))))) | H15: =IF(F15>G15, F15-G15, 0) -> 0 | I15: =IF(E15="◯", ROUNDDOWN(C15 * H15, 0), 0) -> 0
E16: =IF(B16="","",IF(AND(B16>=DATE(2026,11,1), B16<=DATE(2026,11,31)), "◯", "×（期間外）")) | F16: =IF(C16>0, ROUND(D16/C16, 2), 0) -> 0 | G16: =IF(A16="", "", IF(LEFT(E16,1)="×", 0, IF(TRIM(A16)="重油", IF(C16>=8000, 94.2, 106.7), IF(TRIM(A16)="軽油", 78.6, IF(TRIM(A16)="灯油", 90.2, 0))))) | H16: =IF(F16>G16, F16-G16, 0) -> 0 | I16: =IF(E16="◯", ROUNDDOWN(C16 * H16, 0), 0) -> 0
E17: =IF(B17="","",IF(AND(B17>=DATE(2026,11,1), B17<=DATE(2026,11,31)), "◯", "×（期間外）")) | F17: =IF(C17>0, ROUND(D17/C17, 2), 0) -> 0 | G17: =IF(A17="", "", IF(LEFT(E17,1)="×", 0, IF(TRIM(A17)="重油", IF(C17>=8000, 94.2, 106.7), IF(TRIM(A17)="軽油", 78.6, IF(TRIM(A17)="灯油", 90.2, 0))))) | H17: =IF(F17>G17, F17-G17, 0) -> 0 | I17: =IF(E17="◯", ROUNDDOWN(C17 * H17, 0), 0) -> 0
E18: =IF(B18="","",IF(AND(B18>=DATE(2026,11,1), B18<=DATE(2026,11,31)), "◯", "×（期間外）")) | F18: =IF(C18>0, ROUND(D18/C18, 2), 0) -> 0 | G18: =IF(A18="", "", IF(LEFT(E18,1)="×", 0, IF(TRIM(A18)="重油", IF(C18>=8000, 94.2, 106.7), IF(TRIM(A18)="軽油", 78.6, IF(TRIM(A18)="灯油", 90.2, 0))))) | H18: =IF(F18>G18, F18-G18, 0) -> 0 | I18: =IF(E18="◯", ROUNDDOWN(C18 * H18, 0), 0) -> 0
... E63: =IF(B63="","",IF(AND(B63>=DATE(2026,11,1), B63<=DATE(2026,11,31)), "◯", "×（期間外）")) | F63: =IF(C63>0, ROUND(D63/C63, 2), 0) -> 0 | G63: =IF(A63="", "", IF(LEFT(E63,1)="×", 0, IF(TRIM(A63)="重油", IF(C63>=8000, 94.2, 106.7), IF(TRIM(A63)="軽油", 78.6, IF(TRIM(A63)="灯油", 90.2, 0))))) | H63: =IF(F63>G63, F63-G63, 0) -> 0 | I63: =IF(E63="◯", ROUNDDOWN(C63 * H63, 0), 0) -> 0
G65: 算定額
G66: 重油 | H66: =SUMIF(A4:A137, "重油", I4:I137) -> 0
G67: 軽油 | H67: =SUMIF(A4:A137, "軽油", I4:I137) -> 0
G68: 灯油 | H68: =SUMIF(A4:A137, "灯油", I4:I137) -> 0

Sheet 12月分
A1: 12 | C1: 月分
A2: ← 黄色の部分に入力してください →
A3: 油種 | B3: 納品日 | C3: 購入量(L) | D3: 支払金額(円※税抜) | E3: 期間判定 | F3: 購入単価 | G3: 基準単価 | H3: 差額単価 | I3: 算定額(円) | K3: 油種 | L3: 油種を選択してください
E4: =IF(B4="","",IF(AND(B4>=DATE(2026,12,1), B4<=DATE(2026,12,31)), "◯", "×（期間外）")) | F4: =IF(C4>0, ROUND(D4/C4, 2), 0) -> 0 | G4: =IF(A4="", "", IF(LEFT(E4,1)="×", 0, IF(TRIM(A4)="重油", IF(C4>=8000, 94.2, 106.7), IF(TRIM(A4)="軽油", 78.6, IF(TRIM(A4)="灯油", 90.2, 0))))) | H4: =IF(F4>G4, F4-G4, 0) -> 0 | I4: =IF(E4="◯", ROUNDDOWN(C4 * H4, 0), 0) -> 0 | K4: 納品日 | L4: 納品日を入力してください
E5: =IF(B5="","",IF(AND(B5>=DATE(2026,12,1), B5<=DATE(2026,12,31)), "◯", "×（期間外）")) | F5: =IF(C5>0, ROUND(D5/C5, 2), 0) -> 0 | G5: =IF(A5="", "", IF(LEFT(E5,1)="×", 0, IF(TRIM(A5)="重油", IF(C5>=8000, 94.2, 106.7), IF(TRIM(A5)="軽油", 78.6, IF(TRIM(A5)="灯油", 90.2, 0))))) | H5: =IF(F5>G5, F5-G5, 0) -> 0 | I5: =IF(E5="◯", ROUNDDOWN(C5 * H5, 0), 0) -> 0 | K5: 購入量 | L5: 購入量を入力してください
E6: =IF(B6="","",IF(AND(B6>=DATE(2026,12,1), B6<=DATE(2026,12,31)), "◯", "×（期間外）")) | F6: =IF(C6>0, ROUND(D6/C6, 2), 0) -> 0 | G6: =IF(A6="", "", IF(LEFT(E6,1)="×", 0, IF(TRIM(A6)="重油", IF(C6>=8000, 94.2, 106.7), IF(TRIM(A6)="軽油", 78.6, IF(TRIM(A6)="灯油", 90.2, 0))))) | H6: =IF(F6>G6, F6-G6, 0) -> 0 | I6: =IF(E6="◯", ROUNDDOWN(C6 * H6, 0), 0) -> 0 | K6: 支払金額 | L6: 支払金額を税抜きで入力してください
E7: =IF(B7="","",IF(AND(B7>=DATE(2026,12,1), B7<=DATE(2026,12,31)), "◯", "×（期間外）")) | F7: =IF(C7>0, ROUND(D7/C7, 2), 0) -> 0 | G7: =IF(A7="", "", IF(LEFT(E7,1)="×", 0, IF(TRIM(A7)="重油", IF(C7>=8000, 94.2, 106.7), IF(TRIM(A7)="軽油", 78.6, IF(TRIM(A7)="灯油", 90.2, 0))))) | H7: =IF(F7>G7, F7-G7, 0) -> 0 | I7: =IF(E7="◯", ROUNDDOWN(C7 * H7, 0), 0) -> 0
E8: =IF(B8="","",IF(AND(B8>=DATE(2026,12,1), B8<=DATE(2026,12,31)), "◯", "×（期間外）")) | F8: =IF(C8>0, ROUND(D8/C8, 2), 0) -> 0 | G8: =IF(A8="", "", IF(LEFT(E8,1)="×", 0, IF(TRIM(A8)="重油", IF(C8>=8000, 94.2, 106.7), IF(TRIM(A8)="軽油", 78.6, IF(TRIM(A8)="灯油", 90.2, 0))))) | H8: =IF(F8>G8, F8-G8, 0) -> 0 | I8: =IF(E8="◯", ROUNDDOWN(C8 * H8, 0), 0) -> 0
E9: =IF(B9="","",IF(AND(B9>=DATE(2026,12,1), B9<=DATE(2026,12,31)), "◯", "×（期間外）")) | F9: =IF(C9>0, ROUND(D9/C9, 2), 0) -> 0 | G9: =IF(A9="", "", IF(LEFT(E9,1)="×", 0, IF(TRIM(A9)="重油", IF(C9>=8000, 94.2, 106.7), IF(TRIM(A9)="軽油", 78.6, IF(TRIM(A9)="灯油", 90.2, 0))))) | H9: =IF(F9>G9, F9-G9, 0) -> 0 | I9: =IF(E9="◯", ROUNDDOWN(C9 * H9, 0), 0) -> 0
E10: =IF(B10="","",IF(AND(B10>=DATE(2026,12,1), B10<=DATE(2026,12,31)), "◯", "×（期間外）")) | F10: =IF(C10>0, ROUND(D10/C10, 2), 0) -> 0 | G10: =IF(A10="", "", IF(LEFT(E10,1)="×", 0, IF(TRIM(A10)="重油", IF(C10>=8000, 94.2, 106.7), IF(TRIM(A10)="軽油", 78.6, IF(TRIM(A10)="灯油", 90.2, 0))))) | H10: =IF(F10>G10, F10-G10, 0) -> 0 | I10: =IF(E10="◯", ROUNDDOWN(C10 * H10, 0), 0) -> 0
E11: =IF(B11="","",IF(AND(B11>=DATE(2026,12,1), B11<=DATE(2026,12,31)), "◯", "×（期間外）")) | F11: =IF(C11>0, ROUND(D11/C11, 2), 0) -> 0 | G11: =IF(A11="", "", IF(LEFT(E11,1)="×", 0, IF(TRIM(A11)="重油", IF(C11>=8000, 94.2, 106.7), IF(TRIM(A11)="軽油", 78.6, IF(TRIM(A11)="灯油", 90.2, 0))))) | H11: =IF(F11>G11, F11-G11, 0) -> 0 | I11: =IF(E11="◯", ROUNDDOWN(C11 * H11, 0), 0) -> 0
E12: =IF(B12="","",IF(AND(B12>=DATE(2026,12,1), B12<=DATE(2026,12,31)), "◯", "×（期間外）")) | F12: =IF(C12>0, ROUND(D12/C12, 2), 0) -> 0 | G12: =IF(A12="", "", IF(LEFT(E12,1)="×", 0, IF(TRIM(A12)="重油", IF(C12>=8000, 94.2, 106.7), IF(TRIM(A12)="軽油", 78.6, IF(TRIM(A12)="灯油", 90.2, 0))))) | H12: =IF(F12>G12, F12-G12, 0) -> 0 | I12: =IF(E12="◯", ROUNDDOWN(C12 * H12, 0), 0) -> 0
E13: =IF(B13="","",IF(AND(B13>=DATE(2026,12,1), B13<=DATE(2026,12,31)), "◯", "×（期間外）")) | F13: =IF(C13>0, ROUND(D13/C13, 2), 0) -> 0 | G13: =IF(A13="", "", IF(LEFT(E13,1)="×", 0, IF(TRIM(A13)="重油", IF(C13>=8000, 94.2, 106.7), IF(TRIM(A13)="軽油", 78.6, IF(TRIM(A13)="灯油", 90.2, 0))))) | H13: =IF(F13>G13, F13-G13, 0) -> 0 | I13: =IF(E13="◯", ROUNDDOWN(C13 * H13, 0), 0) -> 0
E14: =IF(B14="","",IF(AND(B14>=DATE(2026,12,1), B14<=DATE(2026,12,31)), "◯", "×（期間外）")) | F14: =IF(C14>0, ROUND(D14/C14, 2), 0) -> 0 | G14: =IF(A14="", "", IF(LEFT(E14,1)="×", 0, IF(TRIM(A14)="重油", IF(C14>=8000, 94.2, 106.7), IF(TRIM(A14)="軽油", 78.6, IF(TRIM(A14)="灯油", 90.2, 0))))) | H14: =IF(F14>G14, F14-G14, 0) -> 0 | I14: =IF(E14="◯", ROUNDDOWN(C14 * H14, 0), 0) -> 0
E15: =IF(B15="","",IF(AND(B15>=DATE(2026,12,1), B15<=DATE(2026,12,31)), "◯", "×（期間外）")) | F15: =IF(C15>0, ROUND(D15/C15, 2), 0) -> 0 | G15: =IF(A15="", "", IF(LEFT(E15,1)="×", 0, IF(TRIM(A15)="重油", IF(C15>=8000, 94.2, 106.7), IF(TRIM(A15)="軽油", 78.6, IF(TRIM(A15)="灯油", 90.2, 0))))) | H15: =IF(F15>G15, F15-G15, 0) -> 0 | I15: =IF(E15="◯", ROUNDDOWN(C15 * H15, 0), 0) -> 0
E16: =IF(B16="","",IF(AND(B16>=DATE(2026,12,1), B16<=DATE(2026,12,31)), "◯", "×（期間外）")) | F16: =IF(C16>0, ROUND(D16/C16, 2), 0) -> 0 | G16: =IF(A16="", "", IF(LEFT(E16,1)="×", 0, IF(TRIM(A16)="重油", IF(C16>=8000, 94.2, 106.7), IF(TRIM(A16)="軽油", 78.6, IF(TRIM(A16)="灯油", 90.2, 0))))) | H16: =IF(F16>G16, F16-G16, 0) -> 0 | I16: =IF(E16="◯", ROUNDDOWN(C16 * H16, 0), 0) -> 0
E17: =IF(B17="","",IF(AND(B17>=DATE(2026,12,1), B17<=DATE(2026,12,31)), "◯", "×（期間外）")) | F17: =IF(C17>0, ROUND(D17/C17, 2), 0) -> 0 | G17: =IF(A17="", "", IF(LEFT(E17,1)="×", 0, IF(TRIM(A17)="重油", IF(C17>=8000, 94.2, 106.7), IF(TRIM(A17)="軽油", 78.6, IF(TRIM(A17)="灯油", 90.2, 0))))) | H17: =IF(F17>G17, F17-G17, 0) -> 0 | I17: =IF(E17="◯", ROUNDDOWN(C17 * H17, 0), 0) -> 0
E18: =IF(B18="","",IF(AND(B18>=DATE(2026,12,1), B18<=DATE(2026,12,31)), "◯", "×（期間外）")) | F18: =IF(C18>0, ROUND(D18/C18, 2), 0) -> 0 | G18: =IF(A18="", "", IF(LEFT(E18,1)="×", 0, IF(TRIM(A18)="重油", IF(C18>=8000, 94.2, 106.7), IF(TRIM(A18)="軽油", 78.6, IF(TRIM(A18)="灯油", 90.2, 0))))) | H18: =IF(F18>G18, F18-G18, 0) -> 0 | I18: =IF(E18="◯", ROUNDDOWN(C18 * H18, 0), 0) -> 0
... E63: =IF(B63="","",IF(AND(B63>=DATE(2026,12,1), B63<=DATE(2026,12,31)), "◯", "×（期間外）")) | F63: =IF(C63>0, ROUND(D63/C63, 2), 0) -> 0 | G63: =IF(A63="", "", IF(LEFT(E63,1)="×", 0, IF(TRIM(A63)="重油", IF(C63>=8000, 94.2, 106.7), IF(TRIM(A63)="軽油", 78.6, IF(TRIM(A63)="灯油", 90.2, 0))))) | H63: =IF(F63>G63, F63-G63, 0) -> 0 | I63: =IF(E63="◯", ROUNDDOWN(C63 * H63, 0), 0) -> 0
G65: 算定額
G66: 重油 | H66: =SUMIF(A4:A137, "重油", I4:I137) -> 0
G67: 軽油 | H67: =SUMIF(A4:A137, "軽油", I4:I137) -> 0
G68: 灯油 | H68: =SUMIF(A4:A137, "灯油", I4:I137) -> 0

Sheet Sheet1
A1: 46113 | B1: 46143 | C1: 46174 | D1: 46204 | E1: 46235 | F1: 46266 | G1: 46296 | H1: 46327 | I1: 46357
A2: 46114 | B2: 46144 | C2: 46175 | D2: 46205 | E2: 46236 | F2: 46267 | G2: 46297 | H2: 46328 | I2: 46358
A3: 46115 | B3: 46145 | C3: 46176 | D3: 46206 | E3: 46237 | F3: 46268 | G3: 46298 | H3: 46329 | I3: 46359
A4: 46116 | B4: 46146 | C4: 46177 | D4: 46207 | E4: 46238 | F4: 46269 | G4: 46299 | H4: 46330 | I4: 46360
A5: 46117 | B5: 46147 | C5: 46178 | D5: 46208 | E5: 46239 | F5: 46270 | G5: 46300 | H5: 46331 | I5: 46361
A6: 46118 | B6: 46148 | C6: 46179 | D6: 46209 | E6: 46240 | F6: 46271 | G6: 46301 | H6: 46332 | I6: 46362
A7: 46119 | B7: 46149 | C7: 46180 | D7: 46210 | E7: 46241 | F7: 46272 | G7: 46302 | H7: 46333 | I7: 46363
A8: 46120 | B8: 46150 | C8: 46181 | D8: 46211 | E8: 46242 | F8: 46273 | G8: 46303 | H8: 46334 | I8: 46364
A9: 46121 | B9: 46151 | C9: 46182 | D9: 46212 | E9: 46243 | F9: 46274 | G9: 46304 | H9: 46335 | I9: 46365
A10: 46122 | B10: 46152 | C10: 46183 | D10: 46213 | E10: 46244 | F10: 46275 | G10: 46305 | H10: 46336 | I10: 46366
A11: 46123 | B11: 46153 | C11: 46184 | D11: 46214 | E11: 46245 | F11: 46276 | G11: 46306 | H11: 46337 | I11: 46367
A12: 46124 | B12: 46154 | C12: 46185 | D12: 46215 | E12: 46246 | F12: 46277 | G12: 46307 | H12: 46338 | I12: 46368
... A30: 46142 | B30: 46172 | C30: 46203 | D30: 46233 | E30: 46264 | F30: 46295 | G30: 46325 | H30: 46356 | I30: 46386
B31: 46173 | D31: 46234 | E31: 46265 | F31: 46296 | G31: 46326 | H31: 46357 | I31: 46387
